BEGIN:VCALENDAR
VERSION:2.0
PRODID:-//Idifono - ECPv5.3.2.1//NONSGML v1.0//EN
CALSCALE:GREGORIAN
METHOD:PUBLISH
X-WR-CALNAME:Idifono
X-ORIGINAL-URL:https://oldsite.idifono.gr
X-WR-CALDESC:Idifono - Εκδηλώσεις
BEGIN:VTIMEZONE
TZID:Europe/Athens
BEGIN:DAYLIGHT
TZOFFSETFROM:+0200
TZOFFSETTO:+0300
TZNAME:EEST
DTSTART:20190331T010000
END:DAYLIGHT
BEGIN:STANDARD
TZOFFSETFROM:+0300
TZOFFSETTO:+0200
TZNAME:EET
DTSTART:20191027T010000
END:STANDARD
END:VTIMEZONE
BEGIN:VEVENT
DTSTART;TZID=Europe/Athens:20191019T193000
DTEND;TZID=Europe/Athens:20191019T213000
DTSTAMP:20260419T214352
CREATED:20191001T182018Z
LAST-MODIFIED:20210207T201724Z
UID:5215-1571513400-1571520600@oldsite.idifono.gr
SUMMARY:"Το πριμαρόλι της ζωής" στο Primarolia Festival
DESCRIPTION:«Το πριμαρόλι της Ζωής» της Μαρίας Παναγιωτακοπούλου θα παρουσιαστεί\nστις 19 Οκτωβρίου στις 7.30 μ.μ. στη σταφιδαποθήκη Κανελλόπουλου στην\nπαραλία του Αιγίου στο πλαίσιο του φεστιβάλ «Πριμαρόλια». Πρόκειται για\nθεατρική απόδοση του ομώνυμου διηγήματος που υπάρχει στο βιβλίο της\nΜαρίας Παναγιωτακοπούλου «Κάποτε στο Αίγιο». Είναι η ερωτική ιστορία μιας\nνέας γυναίκας \,εργάτριας στις σταφιδαποθήκες το 1937\, που μεγάλωσε μέσα σε\nαυτές και έμαθε να μετράει την ευτυχία της με τα κιβώτια σταφίδας που\nφόρτωναν για τα λιμάνια της Ευρώπης. Το διήγημα παρουσιάζεται στον φυσικό\nτου χώρο\, στο σκηνικό ακριβώς που περιγράφεται στο βιβλίο. Ο χώρος της\nσταφιδαποθήκης γίνεται θεατρική σκηνικό και ξεδιπλώνεται η ζωή των\nεργατριών και ιδιαίτερα της Ζωής που η μοίρα της έπαιξε τραγικό παιχνίδι. \n  \n  \nΣΥΝΤΕΛΕΣΤΕΣ:\nΚΕΜΕΝΟ –ΣΚΗΝΟΘΕΣΙΑ: Μαρία Παναγιωτακοπούλου\nΜΟΥΣΙΚΗ: Σάκης Παπαδημητρίου\nΣΚΗΝΟΘΕΣΙΑ ΒΙΝΤΕΟ: Βασίλης Ψαρράς\nFILMING: Χρήστος Σπανός \nΠΑΙΖΟΥΝ:\nΓεωργία Μυλωνά\nΙωάννα Στεφανάτου\nΑγγέλικα Αλεξανδροπούλου\nΚατερίνα Γεωργοπούλου\nΕυτυχία Δεσύλλα\nΑντιγόνη Κυριακοπούλου\nΜαρία Σταθούλια\nΜαρία Τζέρου\nΜΟΥΣΙΚΟΙ:\nΈλενα Παπαδημητρίου: τσέλο\nΕλένη Τσέκη: ακκορντεόν \nΑκούγονται αποσπάσματα ηχοτοπίου από την εγκατάσταση μικτής τεχνικής\n“Προσοχή εις την Ποιότηταν” (2018) του Βασίλη Ψαρρά.
URL:https://oldsite.idifono.gr/event/to-primaroli-tis-zois-aigio/
LOCATION:Σταφιδαποθήκη Κανελλόπουλου\, Ζωοδόχου Πηγής\, Αίγιο\, 25100
CATEGORIES:Μουσικοθεατρική Παράσταση
ATTACH;FMTTYPE=image/jpeg:https://oldsite.idifono.gr/wp-content/uploads/2019/10/πριμαρολι-αφισα-σωστο.jpg
END:VEVENT
END:VCALENDAR