BEGIN:VCALENDAR
VERSION:2.0
PRODID:-//Idifono - ECPv5.3.2.1//NONSGML v1.0//EN
CALSCALE:GREGORIAN
METHOD:PUBLISH
X-WR-CALNAME:Idifono
X-ORIGINAL-URL:https://oldsite.idifono.gr
X-WR-CALDESC:Idifono - Εκδηλώσεις
BEGIN:VTIMEZONE
TZID:Europe/Athens
BEGIN:DAYLIGHT
TZOFFSETFROM:+0200
TZOFFSETTO:+0300
TZNAME:EEST
DTSTART:20190331T010000
END:DAYLIGHT
BEGIN:STANDARD
TZOFFSETFROM:+0300
TZOFFSETTO:+0200
TZNAME:EET
DTSTART:20191027T010000
END:STANDARD
END:VTIMEZONE
BEGIN:VEVENT
DTSTART;TZID=Europe/Athens:20191007T190000
DTEND;TZID=Europe/Athens:20191007T210000
DTSTAMP:20260419T201424
CREATED:20190924T212038Z
LAST-MODIFIED:20210207T201741Z
UID:5208-1570474800-1570482000@oldsite.idifono.gr
SUMMARY:Παρουσίαση του βιβλίου "Ο ποιητής - Τα σονέτα" στο Αίγιο
DESCRIPTION:Η νέα ποιητική συλλογή με τίτλο «Ο ΠΟΙΗΤΗΣ-ΤΑ ΣΟΝΕΤΑ» του Γιώργου Παπασταθόπουλου  θα παρουσιαστεί τη Δευτέρα\, 7 Οκτωβρίου στις 7 μ.μ. στην Ιόνιο Βιβλιοθήκη στο Αίγιο. \nΓια τον ποιητή και το ποιητικό του έργο θα μιλήσουν η Μαρία Παναγιωτακοπούλου\, συγγραφέας\, υπεύθυνη των εκδόσεων Ηδύφωνο και ο Κώστας Κλάγκος\, φιλόλογος\, σκηνοθέτης. \nΠοιήματα από τη συλλογή θα απαγγείλουν ο ίδιος ο ποιητής\, η Μαίρη Ζαχαράκη\, ραδιοφωνική παραγωγός και ο Νίκος Ταξιαρχόπουλος\, φυσιοθεραπευτής\, ενώ θα παρουσιαστεί και ένα μελοποιημένο ποίημα από τη συλλογή από τον συνθέτη Σάκη Παπαδημητρίου. \n\nΕπιμέλεια παρουσίασης – μουσικής επένδυσης η Γωγώ Παπαφράγκου\, Οικονομολόγος – εθελόντρια της βιβλιοθήκης. Παρουσίαση ψηφιακών εικόνων η Νόνη Λάφη\,Οικονομολόγος – εθελόντρια της βιβλιοθήκης. Στον ήχο ο Αλέξης Φιλιππόπουλος\, φυσικός\, εθελοντής της βιβλιοθήκης.\n \nΗ ποιητική συλλογή του Γιώργου Παπασταθόπουλου ανήκει στον κύκλο εκδόσεων «Σύγχρονοι Αιγιώτες ποιητές».  \nΤην εκδήλωση οργανώνουν η Ιόνιος Βιβλιοθήκη και οι εκδόσεις ΗΔΥΦΩΝΟ. \n\n 
URL:https://oldsite.idifono.gr/event/poiitis-ta-soneta-aigio/
LOCATION:Ιόνιος Βιβλιοθήκη\, Ανδρονοπούλου 12\, Αίγιο\, 25100
CATEGORIES:Παρουσίαση Βιβλίου
ATTACH;FMTTYPE=image/jpeg:https://oldsite.idifono.gr/wp-content/uploads/2019/09/71303827_913378492358147_6817475681421623296_n.jpg
END:VEVENT
END:VCALENDAR