BEGIN:VCALENDAR
VERSION:2.0
PRODID:-//Idifono - ECPv5.3.2.1//NONSGML v1.0//EN
CALSCALE:GREGORIAN
METHOD:PUBLISH
X-WR-CALNAME:Idifono
X-ORIGINAL-URL:https://oldsite.idifono.gr
X-WR-CALDESC:Idifono - Εκδηλώσεις
BEGIN:VTIMEZONE
TZID:Europe/Athens
BEGIN:DAYLIGHT
TZOFFSETFROM:+0200
TZOFFSETTO:+0300
TZNAME:EEST
DTSTART:20200329T010000
END:DAYLIGHT
BEGIN:STANDARD
TZOFFSETFROM:+0300
TZOFFSETTO:+0200
TZNAME:EET
DTSTART:20201025T010000
END:STANDARD
END:VTIMEZONE
BEGIN:VEVENT
DTSTART;TZID=Europe/Athens:20201220T183000
DTEND;TZID=Europe/Athens:20201220T193000
DTSTAMP:20260419T155343
CREATED:20201217T210929Z
LAST-MODIFIED:20210207T201539Z
UID:6585-1608489000-1608492600@oldsite.idifono.gr
SUMMARY:ΗΔΥΦΩΝΟ LIVE ΠΑΡΟΥΣΙΑΣΗ ΒΙΒΛΙΟΥ "ΤΟ ΜΑΚΡΟΒΟΥΤΙ"
DESCRIPTION:ΗΔΥΦΩΝΟ LIVE ΠΑΡΟΥΣΙΑΣΗ ΒΙΒΛΙΟΥ\n“ΤΟ ΜΑΚΡΟΒΟΥΤΙ” \nΤην Κυριακή 20/12 στις 6.30 μμ\, η Μαρία Παναγιωτακοπούλου θα μιλήσει με τον συγγραφέα Δημήτρη Μάλλη για το νέο του παραμύθι «Το Μακροβούτι» που πρόσφατα κυκλοφόρησε από τις εκδόσεις μας\, για το πάθος του για την αφήγηση παραμυθιών\, αλλά και για τον «Παραμυθανθό» του. \nΔείτε το βίντεο εδώ!
URL:https://oldsite.idifono.gr/event/parousiasi-vivliou-live-to-makrovouti/
LOCATION:FACEBOOK
CATEGORIES:Online Event
ATTACH;FMTTYPE=image/jpeg:https://oldsite.idifono.gr/wp-content/uploads/2020/12/παρουσίαση-βιβλίου-το-μακροβούτι-scaled.jpg
END:VEVENT
END:VCALENDAR