BEGIN:VCALENDAR
VERSION:2.0
PRODID:-//Idifono - ECPv5.3.2.1//NONSGML v1.0//EN
CALSCALE:GREGORIAN
METHOD:PUBLISH
X-WR-CALNAME:Idifono
X-ORIGINAL-URL:https://oldsite.idifono.gr
X-WR-CALDESC:Idifono - Εκδηλώσεις
BEGIN:VTIMEZONE
TZID:Europe/Athens
BEGIN:DAYLIGHT
TZOFFSETFROM:+0200
TZOFFSETTO:+0300
TZNAME:EEST
DTSTART:20190331T010000
END:DAYLIGHT
BEGIN:STANDARD
TZOFFSETFROM:+0300
TZOFFSETTO:+0200
TZNAME:EET
DTSTART:20191027T010000
END:STANDARD
END:VTIMEZONE
BEGIN:VEVENT
DTSTART;TZID=Europe/Athens:20190803T200000
DTEND;TZID=Europe/Athens:20190803T220000
DTSTAMP:20260419T201632
CREATED:20190801T085128Z
LAST-MODIFIED:20210207T201806Z
UID:5049-1564862400-1564869600@oldsite.idifono.gr
SUMMARY:Παρουσίαση του βιβλίου "Εισιτήριο για Νάξο" στη Νάξο
DESCRIPTION:Ο Σύλλογος Γυναικών Φιλωτίου Νάξου προσκαλεί μικρούς και μεγάλους να ταξιδέψουν με τη συγγραφέα Ιωάννα Κυρίτση-Τζιώτη και το βιβλίο της “Εισιτήριο για Νάξο” το Σάββατο 3/8 και ώρα 8 μ.μ. στο Πολιτιστικό Κέντρο Συλλόγου Φιλωτιτών. \n– Για το βιβλίο μιλούν: \nΜαρίνα Προμπονά: φιλόλογος \nΜαρία Σκάρκου Γρατσία: δασκάλα \nΜαριάνθη Ημέλλου: δασκάλα/ποιήτρια \n  \n  \n– Συντονισμός της εκδήλωσης και παρουσίαση της συγγραφέως: \nΧάιδω Μουστάκη: φιλόλογος \nΗ εκδήλωση περιλαμβάνει εκπλήξεις και διαδραστικές δραστηριότητες για παιδιά.
URL:https://oldsite.idifono.gr/event/parousiasi-vivliou-eisitirio-gia-naxo/
LOCATION:Πολιτιστικό Κέντρο Συλλόγου Φιλωτιτών\, Φιλώτι Νάξου\, 84300\, Greece
CATEGORIES:Παρουσίαση Βιβλίου
ATTACH;FMTTYPE=image/jpeg:https://oldsite.idifono.gr/wp-content/uploads/2019/08/67481160_686782868402509_5586272947531677696_n.jpg
END:VEVENT
END:VCALENDAR