BEGIN:VCALENDAR
VERSION:2.0
PRODID:-//Idifono - ECPv5.3.2.1//NONSGML v1.0//EN
CALSCALE:GREGORIAN
METHOD:PUBLISH
X-WR-CALNAME:Idifono
X-ORIGINAL-URL:https://oldsite.idifono.gr
X-WR-CALDESC:Idifono - Εκδηλώσεις
BEGIN:VTIMEZONE
TZID:Europe/Athens
BEGIN:DAYLIGHT
TZOFFSETFROM:+0200
TZOFFSETTO:+0300
TZNAME:EEST
DTSTART:20190331T010000
END:DAYLIGHT
BEGIN:STANDARD
TZOFFSETFROM:+0300
TZOFFSETTO:+0200
TZNAME:EET
DTSTART:20191027T010000
END:STANDARD
END:VTIMEZONE
BEGIN:VEVENT
DTSTART;TZID=Europe/Athens:20191119T200000
DTEND;TZID=Europe/Athens:20191119T230000
DTSTAMP:20260419T230327
CREATED:20191107T121516Z
LAST-MODIFIED:20210207T201710Z
UID:5264-1574193600-1574204400@oldsite.idifono.gr
SUMMARY:Παρουσίαση του βιβλίου "Θόρυβοι και Καπιταλισμός" στο Underflow
DESCRIPTION:Παρουσίαση Βιβλίου – “Θόρυβοι και Καπιταλισμός” \nΤο βιβλίο Θόρυβοι και Καπιταλισμός έρχεται να διαπραγματευτεί τη θέση κάθε είδους πειραματικής μουσικής με την καπιταλιστική διαμεσολάβηση. Μέσω μιας σειράς δοκιμίων από γνωστούς καλλιτέχνες όπως ο Bruce Russell\, o Εddie Prevost\, ο Mattin\, η Nina Power κ.α. το βιβλίο παραθέτει προσωπικούς προβληματισμούς για τη θέση του πειραματισμού στην μεταπολεμική εποχή. Τα κείμενα κινούνται μεταξύ μιας παιχνιδιάρικης διάθεσης\, κατάθεσης προσωπικών εμπειριών και της μεθοδολογικής προσέγγισης της σύγχρονης πειραματικής μουσικής. Έρχονται να φωνάξουν πως τα είδη της μουσικής δεν έχουν πλέον καμία σημασία και πως ο\, κάθε είδους\, πειραματισμός μας αφορά. \n\nΤρίτη\, 19 Νοεμβρίου 2019 στις 8 μ.μ. \nΕίσοδος δωρεάν
URL:https://oldsite.idifono.gr/event/parousiasi-thoryvoi-underflow/
LOCATION:Underflow\, Καλλιρόης 39\, Αθήνα
CATEGORIES:Παρουσίαση Βιβλίου
ATTACH;FMTTYPE=image/jpeg:https://oldsite.idifono.gr/wp-content/uploads/2019/11/74666330_2695159473840803_97143471516680192_o.jpg
END:VEVENT
END:VCALENDAR