BEGIN:VCALENDAR
VERSION:2.0
PRODID:-//Idifono - ECPv5.3.2.1//NONSGML v1.0//EN
CALSCALE:GREGORIAN
METHOD:PUBLISH
X-WR-CALNAME:Idifono
X-ORIGINAL-URL:https://oldsite.idifono.gr
X-WR-CALDESC:Idifono - Εκδηλώσεις
BEGIN:VTIMEZONE
TZID:Europe/Athens
BEGIN:DAYLIGHT
TZOFFSETFROM:+0200
TZOFFSETTO:+0300
TZNAME:EEST
DTSTART:20190331T010000
END:DAYLIGHT
BEGIN:STANDARD
TZOFFSETFROM:+0300
TZOFFSETTO:+0200
TZNAME:EET
DTSTART:20191027T010000
END:STANDARD
END:VTIMEZONE
BEGIN:VEVENT
DTSTART;TZID=Europe/Athens:20191210T200000
DTEND;TZID=Europe/Athens:20191210T230000
DTSTAMP:20260419T213557
CREATED:20191203T163113Z
LAST-MODIFIED:20191203T163113Z
UID:5367-1576008000-1576018800@oldsite.idifono.gr
SUMMARY:Παρουσίαση του βιβλίου "Θόρυβοι και Καπιταλισμός" στο Chimeres.Space
DESCRIPTION:Την Τρίτη\, 10 Δεκεμβρίου στις 8 μ.μ θα παρουσιαστεί το βιβλίο “Θόρυβοι και Καπιταλισμός” στο chimeres.space. \nΤο βιβλίο Θόρυβοι και Καπιταλισμός έρχεται να διαπραγματευτεί τη θέση κάθε είδους πειραματικής μουσικής με την καπιταλιστική διαμεσολάβηση. Μέσω μιας σειράς δοκιμίων από γνωστούς καλλιτέχνες όπως ο Bruce Russell\, o Εddie Prevost\, ο Mattin\, η Nina Power κ.α. το βιβλίο παραθέτει προσωπικούς προβληματισμούς για τη θέση του πειραματισμού στην μεταπολεμική εποχή. Τα κείμενα κινούνται μεταξύ μιας παιχνιδιάρικης διάθεσης\, κατάθεσης προσωπικών εμπειριών και της μεθοδολογικής προσέγγισης της σύγχρονης πειραματικής μουσικής. Έρχονται να φωνάξουν πως τα είδη της μουσικής δεν έχουν πλέον καμία σημασία και πως ο\, κάθε είδους\, πειραματισμός μας αφορά. \nΜετάφραση: Ματθαίος Δακουτρός\, Θάλεια Κακλιδάκη\, Φώτης Νικολακόπουλος\, Ισιδώρα Στανιμεράκη \nΘα διαβάσει αποσπάσματα η ηθοποιός\, Εύη Σαουλίδου. \nchimeres.space \nΠυθοδώρου 6 (1ος όροφος)\nΑθήνα (Βοτανικός) 10444\nΕίσοδος ελεύθερη
URL:https://oldsite.idifono.gr/event/parousiasi-thoryvoi-chimeres/
LOCATION:chimeres.space\, Πυθοδώρου 6\, Αθήνα\, Βοτανικός\, 10444\, Greece
CATEGORIES:Παρουσίαση Βιβλίου
ATTACH;FMTTYPE=image/jpeg:https://oldsite.idifono.gr/wp-content/uploads/2019/11/θορυβοι-και-καπιταλισμος.jpg
END:VEVENT
END:VCALENDAR