BEGIN:VCALENDAR
VERSION:2.0
PRODID:-//Idifono - ECPv5.3.2.1//NONSGML v1.0//EN
CALSCALE:GREGORIAN
METHOD:PUBLISH
X-WR-CALNAME:Idifono
X-ORIGINAL-URL:https://oldsite.idifono.gr
X-WR-CALDESC:Idifono - Εκδηλώσεις
BEGIN:VTIMEZONE
TZID:Europe/Athens
BEGIN:DAYLIGHT
TZOFFSETFROM:+0200
TZOFFSETTO:+0300
TZNAME:EEST
DTSTART:20200329T010000
END:DAYLIGHT
BEGIN:STANDARD
TZOFFSETFROM:+0300
TZOFFSETTO:+0200
TZNAME:EET
DTSTART:20201025T010000
END:STANDARD
END:VTIMEZONE
BEGIN:VEVENT
DTSTART;TZID=Europe/Athens:20200907T193000
DTEND;TZID=Europe/Athens:20200907T210000
DTSTAMP:20260419T185126
CREATED:20200904T092617Z
LAST-MODIFIED:20200904T094622Z
UID:6434-1599507000-1599512400@oldsite.idifono.gr
SUMMARY:Παρουσίαση βιβλίου “Στα δύσκολα μαζί” στην Πάτρα
DESCRIPTION:Ο Σύλλογος Εκπαιδευτικών Πρωτοβάθμιας Εκπαίδευσης Αιγιάλειας και οι εκδόσεις μας σας προσκαλούν στην παρουσίαση του βιβλίου της Αθηνάς Σκανδάμη και Μαρίας Μαχτή με τίτλο:\n\n\n\n“ΣΤΑ ΔΥΣΚΟΛΑ ΜΑΖΙ – ΙΔΕΕΣ ΓΙΑ ΔΙΑΦΟΡΟΠΟΙΗΜΕΝΗ ΔΙΔΑΣΚΑΛΙΑ ΣΤΟ ΝΗΠΙΑΓΩΓΕΙΟ”\n\n\n\nΓια το βιβλίο θα μιλήσουν οι: Κώστας Γιαννόπουλος (Περιφερειακός Διευθυντής Πρωτοβάθμιας και Δευτεροβάθμιας Εκπαίδευσης Δυτικής Ελλάδας)\, Ελένη Διδάχου (Συντονίστρια Εκπ/κού Έργου Προσχολική Εκπ/σης\, ΠΕ.Κ.Ε.Σ. Δυτικής Ελλάδας)\, Θεώνη Μαυρόγιαννη (Προϊσταμένη του 1ου ΚΕΣΥ Αχαΐας)\n\n\n\n‍Για την παρουσίαση στην Πάτρα θα υπάρχει Διερμηνεία Ελληνικής Νοηματικής Γλώσσας από την Ειρήνη Ανδρικοπούλου!\n\n 
URL:https://oldsite.idifono.gr/event/parousiasi-sta-dyskola-mazi-patra/
LOCATION:64o Δημοτικό Σχολείο Πάτρας\, Αμερικής 8\, Πάτρα\, 26442\, Greece
CATEGORIES:Παρουσίαση Βιβλίου
ATTACH;FMTTYPE=image/jpeg:https://oldsite.idifono.gr/wp-content/uploads/2020/09/αφισα-sta-dyskola-mazi-scaled.jpg
END:VEVENT
END:VCALENDAR