BEGIN:VCALENDAR
VERSION:2.0
PRODID:-//Idifono - ECPv5.3.2.1//NONSGML v1.0//EN
CALSCALE:GREGORIAN
METHOD:PUBLISH
X-WR-CALNAME:Idifono
X-ORIGINAL-URL:https://oldsite.idifono.gr
X-WR-CALDESC:Idifono - Εκδηλώσεις
BEGIN:VTIMEZONE
TZID:Europe/Athens
BEGIN:DAYLIGHT
TZOFFSETFROM:+0200
TZOFFSETTO:+0300
TZNAME:EEST
DTSTART:20200329T010000
END:DAYLIGHT
BEGIN:STANDARD
TZOFFSETFROM:+0300
TZOFFSETTO:+0200
TZNAME:EET
DTSTART:20201025T010000
END:STANDARD
END:VTIMEZONE
BEGIN:VEVENT
DTSTART;TZID=Europe/Athens:20200209T180000
DTEND;TZID=Europe/Athens:20200209T203000
DTSTAMP:20260419T172438
CREATED:20200203T141019Z
LAST-MODIFIED:20200203T141019Z
UID:5456-1581271200-1581280200@oldsite.idifono.gr
SUMMARY:Παρουσίαση του βιβλίου "Οι δρόμοι της Σαλάμ" στη Δημοτική Βιβλιοθήκη Αιγίου
DESCRIPTION:Την Κυριακή 9 Φεβρουαρίου στη Δημοτική Βιβλιοθήκη Αιγίου στις 6μ.μ. θα γίνει η παρουσίαση του παιδικού βιβλίου «Οι δρόμοι της Σαλάμ» της Αναστασίας Ευσταθίου\, που κυκλοφορεί από τις εκδόσεις Ηδύφωνο\, σε  εικονογράφηση της Έλενας Λεώνη (Παπαδημητρίου). \nΤο βιβλίο θα παρουσιάσουν η Χαρά Μαμωνά\, διευθύντρια του 2ου Δημ.Σχολείου Ακράτας και η Ελένη Παναγιωτακοπούλου\, ψυχολόγος σε δομή φιλοξενίας προσφύγων.  Συμμετέχουν επίσης οι μαθητές της ΣΤ1 τάξης του 3ου Δημ. Σχολείου Αιγίου\, όπου με την καθοδήγηση της δασκάλας τους Τέτης Ζησιμοπούλου και της θεατρολόγου Ιωάννας Στεφανατου θα δραματοποιήσουν ένα απόσπασμα του βιβλίου. \n«Οι δρόμοι της Σαλάμ» είναι μια ιστορία για τους πρόσφυγες\, την αλληλεγγύη\, την ανθρωπιά που δε χάθηκε στη δίνη του πολέμου και του ξεριζωμού. Όλα συμβαίνουν σε έναν καταυλισμό προσφύγων κάπου στο Αιγαίο. Εκεί οι φιλίες μεταξύ των παιδιών\, η αλληλεγγύη των κατοίκων του νησιού\, η δύναμη των κατατρεγμένων ανθρώπων σε αντίξοες συνθήκες. Μια ιστορία βασισμένη σε πραγματικά γεγονότα που συγκινεί. Οι ήρωες του βιβλίου με όπλα την αγάπη\, τη θέληση\, τον συνεχή αγώνα στέλνουν το δικό τους μήνυμα μέσα από μία πολύ διαφορετική πρωταγωνίστρια\, τη γάτα Σαλάμ\, τη γάτα πρόσφυγα. \nΤην παρουσίαση του βιβλίου διοργανώνουν ο  Σύλλογος Εκπ/κών Α/θμιας Εκπ/σης\, η Δημοτική Βιβλιοθήκη Αιγίου και οι εκδόσεις Ηδύφωνο.
URL:https://oldsite.idifono.gr/event/parousiasi-oi-dromoi-tis-salam-vivliothiki-aigiou/
LOCATION:Δημοτική Βιβλιοθήκη Αιγίου\, Βασιλέως Κωνσταντίνου 76\, Αίγιο\, 25100\, Greece
CATEGORIES:Παρουσίαση Βιβλίου
ATTACH;FMTTYPE=image/jpeg:https://oldsite.idifono.gr/wp-content/uploads/2020/02/ΠΑΡΟΥΣΙΑΣΗ-ΒΙΒΛΙΟΥ-οι-δρόμοι-της-Σαλαμ.jpg
END:VEVENT
END:VCALENDAR