BEGIN:VCALENDAR
VERSION:2.0
PRODID:-//Idifono - ECPv5.3.2.1//NONSGML v1.0//EN
CALSCALE:GREGORIAN
METHOD:PUBLISH
X-WR-CALNAME:Idifono
X-ORIGINAL-URL:https://oldsite.idifono.gr
X-WR-CALDESC:Idifono - Εκδηλώσεις
BEGIN:VTIMEZONE
TZID:Europe/Athens
BEGIN:DAYLIGHT
TZOFFSETFROM:+0200
TZOFFSETTO:+0300
TZNAME:EEST
DTSTART:20190331T010000
END:DAYLIGHT
BEGIN:STANDARD
TZOFFSETFROM:+0300
TZOFFSETTO:+0200
TZNAME:EET
DTSTART:20191027T010000
END:STANDARD
END:VTIMEZONE
BEGIN:VEVENT
DTSTART;TZID=Europe/Athens:20190728T213000
DTEND;TZID=Europe/Athens:20190728T230000
DTSTAMP:20260419T184919
CREATED:20190704T090400Z
LAST-MODIFIED:20190723T144626Z
UID:4984-1564349400-1564354800@oldsite.idifono.gr
SUMMARY:Κωστής Παλαμάς "Οι μούσες που αγάπησα" στη Σύρο
DESCRIPTION:Μια μουσικοποιητική παράσταση\, όπου η μελοποιημένη ποίηση του Κ. Παλαμά βρίσκεται σε αντιστικτικό  διάλογο με ποιήματα και κείμενα που μαρτυρούν τη σχέση του ποιητή με τη «Γυναίκα-Μούσα»\, που αποτελεί και ένα από τα κυρίαρχα θέματα της ποίησής του. \n  \nΗ καινούργια συνθετική δουλειά του Σάκη Παπαδημητρίου πάνω στην ερωτική ποίηση του Κωστή Παλαμά γίνεται αφορμή και πρόκληση για  μια ιδιαίτερη συνεργασία  με το καταξιωμένο πατρινό γυναικείο μουσικό σύνολο A Companhia Artistica με υπεύθυνη την πιανίστα Μαρία Νικολοπούλου\, ερμηνεύτρια τη σοπράνο Πόλυ Νικολοπούλου\, τη Φωτεινή Γεροπούλου στο βιολί\, την Ευγενία Κοΐνη στο  φλάουτο και την Κωνσταντίνα Σέλληνα στο βιολοντσέλο. \nΣτην  αναζήτηση ενός κοινού μουσικού τόπου  συνέβαλε με τις ενορχηστρώσεις της\, η Άσπα Παπαδημητρίου\, ενώ η συγγραφέας Μαρία Παναγιωτακοπούλου δημιούργησε πάνω σε δικό της κείμενο μια πρωτότυπη  μουσική  παράσταση καταδεικνύοντας τη σχέση του Παλαμά με τη γυναίκα «Μούσα»\,  που\, χαρίζοντάς του την έμπνευση\, του συμπαραστάθηκε στον διαρκή αγώνα του με τη φθορά\, τον μαρασμό και τον θάνατο. \nΜελοποιημένα ποιήματα\, εμπλέκονται αντιστικτικά με το κείμενο\, που ερμηνεύει ο ηθοποιός Νίκος Παρασκευόπουλος\, συνθέτοντας ένα ιδιαίτερο μουσικοποιητικό αναλόγιο. \n  \nΣΥΝΤΕΛΕΣΤΕΣ:  \nΣΥΝΘΕΤΗΣ : ΣΑΚΗΣ ΠΑΠΑΔΗΜΗΤΡΙΟΥ \nΜΟΥΣΙΚΟ ΣΥΝΟΛΟ: A  COMPANHIA  ARTISTICA: \n  \nΚείμενο-σκηνοθεσία: ΜΑΡΙΑ ΠΑΝΑΓΙΩΤΑΚΟΠΟΥΛΟΥ \nΕνορχηστρώσεις /παρτιτούρες: ΑΣΠΑ ΠΑΠΑΔΗΜΗΤΡΙΟΥ \n  \nA  COMPANHIA  ARTISTICA με υπεύθυνη τη Μαρία Νικολοπούλου \nΠόλυ Νικολοπούλου:   Σοπράνο \nΜαρία Νικολοπούλου:  Πιάνο \nΦωτεινή Γεροπούλου:   Βιολί \nΕυγενία  Κοΐνη:  Φλάουτο \nΚωνσταντίνα Σέλληνα:  Βιολοντσέλο \n  \nΔείτε επίσης:  "Κωστής Παλαμάς - Οι μούσες που αγάπησα" στο Θέατρο Ρεματιάς
URL:https://oldsite.idifono.gr/event/palamas-oi-mouses-pou-agaphsa-syros/
LOCATION:Θέατρο Ευανθία Καΐρη\, Λαζαρέττα Σύρου
CATEGORIES:Μουσικοθεατρική Παράσταση
ATTACH;FMTTYPE=image/jpeg:https://oldsite.idifono.gr/wp-content/uploads/2019/07/αφισα-ΣΥΡΟΣ.jpg
END:VEVENT
END:VCALENDAR