BEGIN:VCALENDAR
VERSION:2.0
PRODID:-//Idifono - ECPv5.3.2.1//NONSGML v1.0//EN
CALSCALE:GREGORIAN
METHOD:PUBLISH
X-WR-CALNAME:Idifono
X-ORIGINAL-URL:https://oldsite.idifono.gr
X-WR-CALDESC:Idifono - Εκδηλώσεις
BEGIN:VTIMEZONE
TZID:Europe/Athens
BEGIN:DAYLIGHT
TZOFFSETFROM:+0200
TZOFFSETTO:+0300
TZNAME:EEST
DTSTART:20190331T010000
END:DAYLIGHT
BEGIN:STANDARD
TZOFFSETFROM:+0300
TZOFFSETTO:+0200
TZNAME:EET
DTSTART:20191027T010000
END:STANDARD
END:VTIMEZONE
BEGIN:VEVENT
DTSTART;TZID=Europe/Athens:20190826T203000
DTEND;TZID=Europe/Athens:20190826T220000
DTSTAMP:20260419T172307
CREATED:20190814T134831Z
LAST-MODIFIED:20190814T134930Z
UID:5111-1566851400-1566856800@oldsite.idifono.gr
SUMMARY:"Κωστής Παλαμάς - Οι μούσες που αγάπησα" στο Θέατρο Ρεματιάς
DESCRIPTION:Μια μουσικοποιητική παράσταση\, όπου η μελοποιημένη ποίηση του\nΚ. Παλαμά βρίσκεται σε αντιστικτικό διάλογο με ποιήματα και κείμενα\nπου μαρτυρούν τη σχέση του ποιητή με τη «Γυναίκα-Μούσα»\, που\nαποτελεί και ένα από τα κυρίαρχα θέματα της ποίησής του. \nΗ καινούργια συνθετική δουλειά του Σάκη Παπαδημητρίου πάνω\nστην ερωτική ποίηση του Κωστή Παλαμά γίνεται αφορμή και\nπρόκληση για μια ιδιαίτερη συνεργασία με το καταξιωμένο πατρινό\nγυναικείο μουσικό σύνολο A Companhia Artistica με υπεύθυνη την\nπιανίστα Μαρία Νικολοπούλου\, ερμηνεύτρια τη σοπράνο Πόλυ\nΝικολοπούλου\, τη Φωτεινή Γεροπούλου στο βιολί\, την Ευγενία Κοΐνη\nστο φλάουτο και την Κωνσταντίνα Σέλληνα στο βιολοντσέλο. \nΣτην αναζήτηση ενός κοινού μουσικού τόπου συνέβαλε με τις\nενορχηστρώσεις της\, η Άσπα Παπαδημητρίου\, ενώ η συγγραφέας Μαρία Παναγιωτακοπούλου δημιούργησε πάνω σε δικό της κείμενο μια πρωτότυπη μουσική παράσταση καταδεικνύοντας τη σχέση του Παλαμά με τη γυναίκα «Μούσα»\, που\, χαρίζοντάς του την έμπνευση\, του συμπαραστάθηκε στον διαρκή αγώνα του με τη φθορά \, τον\nμαρασμό και τον θάνατο. Μελοποιημένα ποιήματα\, κείμενα και θεατρικοί διάλογοι συνθέτουν ένα ιδιαίτερο μουσικό θεατρικό αναλόγιο με τους ηθοποιούς Νίκο Παρασκευόπουλο και Ιωάννα Στεφανάτου στους ρόλους του Κ. Παλαμά και της γυναίκας του Μαρίας Βάλβη και τη χορεύτρια Βασιλική Ζέρβα\, στο ρόλο της «γυναίκας-μούσας». \nΣΥΝΤΕΛΕΣΤΕΣ: \nΣυνθέτης: ΣΑΚΗΣ ΠΑΠΑΔΗΜΗΤΡΙΟΥ\nΜουσικό Σύνολο: A COMPANHIA ARTISTICA με υπεύθυνη τη ΜΑΡΙΑ ΝΙΚΟΛΑΚΟΠΟΥΛΟΥ\nΚείμενο-σκηνοθεσία: ΜΑΡΙΑ ΠΑΝΑΓΙΩΤΑΚΟΠΟΥΛΟΥ\nΕνορχηστρώσεις /παρτιτούρες: ΑΣΠΑ ΠΑΠΑΔΗΜΗΤΡΙΟΥ\nΧορογραφίες: ΧΟΡΟΠΟΛΙΣ Γαβριέλα Καραζάνου \nA COMPANHIA ARTISTICA\nΠόλυ Νικολοπούλου: Σοπράνο\nΜαρία Νικολοπούλου: Πιάνο\nΦωτεινή Γεροπούλου: Βιολί\nΕυγενία Κοΐνη: Φλάουτο\nΚωνσταντίνα Σέλληνα: Βιολοντσέλο\nΗθοποιοί: Νίκος Παρασκευόπουλος\, Ιωάννα Στεφανάτου\nΧορεύει η Βασιλική Ζέρβα \nΤόπος: Θέατρο Ρεματιάς-Χαλάνδρι\nΗμερομηνία: 26 Αυγούστου 2019\, 8.30μ.μ.\nΔιάρκεια: 90’ \nΔείτε επίσης:  Κωστής Παλαμάς "Οι μούσες που αγάπησα" στην Πάτρα
URL:https://oldsite.idifono.gr/event/oi-mouses-pou-agaphsa-theatro-rematias/
LOCATION:Θέατρο Ρεματιάς\, Ναρκίσσων 2-8\, Χαλάνδρι\, 15233\, Greece
CATEGORIES:Μουσικοθεατρική Παράσταση
ATTACH;FMTTYPE=image/jpeg:https://oldsite.idifono.gr/wp-content/uploads/2019/08/Οι-μούσες-που-αγάπησα-Φεστιβάλ-Ρεματιιάς.jpg
END:VEVENT
END:VCALENDAR