BEGIN:VCALENDAR
VERSION:2.0
PRODID:-//Idifono - ECPv5.3.2.1//NONSGML v1.0//EN
CALSCALE:GREGORIAN
METHOD:PUBLISH
X-WR-CALNAME:Idifono
X-ORIGINAL-URL:https://oldsite.idifono.gr
X-WR-CALDESC:Idifono - Εκδηλώσεις
BEGIN:VTIMEZONE
TZID:Europe/Helsinki
BEGIN:DAYLIGHT
TZOFFSETFROM:+0200
TZOFFSETTO:+0300
TZNAME:EEST
DTSTART:20190331T010000
END:DAYLIGHT
BEGIN:STANDARD
TZOFFSETFROM:+0300
TZOFFSETTO:+0200
TZNAME:EET
DTSTART:20191027T010000
END:STANDARD
END:VTIMEZONE
BEGIN:VEVENT
DTSTART;TZID=Europe/Helsinki:20190126T180000
DTEND;TZID=Europe/Helsinki:20190126T183000
DTSTAMP:20260421T222235
CREATED:20190217T232042Z
LAST-MODIFIED:20210207T202025Z
UID:3321-1548525600-1548527400@oldsite.idifono.gr
SUMMARY:La chanteuse-Στο Παρίσι της Edith Piaf & των καταραμένων ποιητών
DESCRIPTION:Μια μουσικοποιητική παράσταση που μας «ταξιδεύει» στο Παρίσι μέσα από τη σκοτεινή ποίηση των Baudelaire\, Rimbaud\, Verlaine και άλλων καταραμένων ποιητών αλλά και από το μελαγχολικό τραγούδι της Edith Piaf και άλλων ερμηνευτών της κλασικής περιόδου του γαλλικού chanson. Μια παράσταση γεμάτη στίχους\, συναίσθημα\, πάθος και μορφές που ποτέ δε γερνάνε… γεμάτη απόκοσμες φωνές που μόλις ακουστούν\, δεν μπορείς παρά να τις ερωτευτείς. \nΣΥΝΤΕΛΕΣΤΕΣ \nΈλενα Παπαδημητρίου: τραγούδι\nΓιώργος Αναστασόπουλος: πιάνο\nΔιαβάζει ο Νίκος Παρασκευόπουλος
URL:https://oldsite.idifono.gr/event/la-chanteuse-%cf%83%cf%84%ce%bf-%cf%80%ce%b1%cf%81%ce%af%cf%83%ce%b9-%cf%84%ce%b7%cf%82-edith-piaf-%cf%84%cf%89%ce%bd-%ce%ba%ce%b1%cf%84%ce%b1%cf%81%ce%b1%ce%bc%ce%ad%ce%bd%cf%89%ce%bd-%cf%80%ce%bf/
LOCATION:Οικία Κατακουζηνού\, Λεωφόρος Αμαλίας 4\, Αθήνα\, Greece
CATEGORIES:Μουσικοθεατρική Παράσταση
END:VEVENT
END:VCALENDAR