BEGIN:VCALENDAR
VERSION:2.0
PRODID:-//Idifono - ECPv5.3.2.1//NONSGML v1.0//EN
CALSCALE:GREGORIAN
METHOD:PUBLISH
X-WR-CALNAME:Idifono
X-ORIGINAL-URL:https://oldsite.idifono.gr
X-WR-CALDESC:Idifono - Εκδηλώσεις
BEGIN:VTIMEZONE
TZID:Europe/Athens
BEGIN:DAYLIGHT
TZOFFSETFROM:+0200
TZOFFSETTO:+0300
TZNAME:EEST
DTSTART:20190331T010000
END:DAYLIGHT
BEGIN:STANDARD
TZOFFSETFROM:+0300
TZOFFSETTO:+0200
TZNAME:EET
DTSTART:20191027T010000
END:STANDARD
END:VTIMEZONE
BEGIN:VEVENT
DTSTART;TZID=Europe/Athens:20190828T203000
DTEND;TZID=Europe/Athens:20190828T223000
DTSTAMP:20260419T185058
CREATED:20190816T141101Z
LAST-MODIFIED:20210207T201750Z
UID:5117-1567024200-1567031400@oldsite.idifono.gr
SUMMARY:"La Chanteuse"στα Οινοξένεια 2019
DESCRIPTION:ΓΕΥΣΕΙΣ ΚΑΙ ΜΕΛΩΔΙΕΣ\nΟΙΝΟΞΕΝΕΙΑ ΣΤΟ ΟΙΝΟΠΟΙΕΙΟ ΡΟΥΒΑΛΗ \nΣας προσκαλούμε σε μια μαγευτική μουσική βραδιά στον χώρο του οινοποιείου μας μ’ ένα ποτήρι κρασί και φόντο τον Κορινθιακό Κόλπο! \n20.00 – 20.30 Καλωσόρισμα με ένα ποτήρι κρασί\n20.30 – 21.00 Ξενάγηση στο βαρυτικό οινοποιείο\n21.00 Μουσική βραδιά “La chanteuse” \nΗ Έλενα Παπαδημητρίου μας ταξιδεύει στο Παρίσι μέσα από τα τραγούδια της Edith Piaf και άλλων ερμηνευτών της κλασσικής περιόδου του γαλλικού chanson. Μια παράσταση γεμάτη στίχους\, συναίσθημα\, πάθος και μορφές που ποτέ δεν γερνάνε και που μόλις ακουστούν δεν μπορείς παρά να τις ερωτευτείς. \nΣυντελεστές: \nΈλενα Παπαδημητρίου (τραγούδι)\, \nΓιώργος Αναστασόπουλος (πιάνο).
URL:https://oldsite.idifono.gr/event/la-chanteuse-%cf%83%cf%84%ce%b1-%ce%bf%ce%b9%ce%bd%ce%bf%ce%be%ce%ad%ce%bd%ce%b5%ce%b9%ce%b1-2019/
LOCATION:Οινοποιείο Ρούβαλη\, Σελινούς\, Αίγιο
CATEGORIES:Συναυλία
ATTACH;FMTTYPE=image/jpeg:https://oldsite.idifono.gr/wp-content/uploads/2019/08/67647431_2427038474181834_6230526185189670912_n.jpg
END:VEVENT
END:VCALENDAR