BEGIN:VCALENDAR
VERSION:2.0
PRODID:-//Idifono - ECPv5.3.2.1//NONSGML v1.0//EN
CALSCALE:GREGORIAN
METHOD:PUBLISH
X-WR-CALNAME:Idifono
X-ORIGINAL-URL:https://oldsite.idifono.gr
X-WR-CALDESC:Idifono - Εκδηλώσεις
BEGIN:VTIMEZONE
TZID:Europe/Athens
BEGIN:DAYLIGHT
TZOFFSETFROM:+0200
TZOFFSETTO:+0300
TZNAME:EEST
DTSTART:20200329T010000
END:DAYLIGHT
BEGIN:STANDARD
TZOFFSETFROM:+0300
TZOFFSETTO:+0200
TZNAME:EET
DTSTART:20201025T010000
END:STANDARD
END:VTIMEZONE
BEGIN:VEVENT
DTSTART;TZID=Europe/Athens:20200527T193000
DTEND;TZID=Europe/Athens:20200527T200000
DTSTAMP:20260419T155421
CREATED:20200524T145126Z
LAST-MODIFIED:20210207T201059Z
UID:5903-1590607800-1590609600@oldsite.idifono.gr
SUMMARY:Ηδύφωνο Live Συναντήσεις "Οι δρόμοι της Σαλάμ...δρόμοι για τη ζωή"
DESCRIPTION:ΗΔΥΦΩΝΟ LIVE ΣΥΝΑΝΤΗΣΕΙΣ \n«Οι δρόμοι της Σαλάμ… δρόμοι για τη ζωή» Με αφορμή το παραμύθι της «Οι δρόμοι της Σαλάμ» η συγγραφέας Αναστασία Ευσταθίου συναντιέται με την ψυχολόγο σε δομή φιλοξενίας προσφύγων\, Ελένη Παναγιωτακοπούλου\, για να μιλήσουν για το δικαίωμα του ανθρώπου στη ζωή και την ευτυχία\, καθώς και την έννοια των συνόρων ιδιαίτερα μέσα από τα μάτια των μικρών παιδιών!! \nΠαρακολουθήστε το εδώ!
URL:https://oldsite.idifono.gr/event/idifono-sunantiseis-oi-dromoi-tis-salam-dromoi-gia-ti-zoi/
LOCATION:FACEBOOK
CATEGORIES:Online Event
ATTACH;FMTTYPE=image/jpeg:https://oldsite.idifono.gr/wp-content/uploads/2020/05/συνατησεις2.jpg
END:VEVENT
END:VCALENDAR