BEGIN:VCALENDAR
VERSION:2.0
PRODID:-//Idifono - ECPv5.3.2.1//NONSGML v1.0//EN
CALSCALE:GREGORIAN
METHOD:PUBLISH
X-WR-CALNAME:Idifono
X-ORIGINAL-URL:https://oldsite.idifono.gr
X-WR-CALDESC:Idifono - Εκδηλώσεις
BEGIN:VTIMEZONE
TZID:Europe/Athens
BEGIN:DAYLIGHT
TZOFFSETFROM:+0200
TZOFFSETTO:+0300
TZNAME:EEST
DTSTART:20200329T010000
END:DAYLIGHT
BEGIN:STANDARD
TZOFFSETFROM:+0300
TZOFFSETTO:+0200
TZNAME:EET
DTSTART:20201025T010000
END:STANDARD
END:VTIMEZONE
BEGIN:VEVENT
DTSTART;TZID=Europe/Athens:20200617T190000
DTEND;TZID=Europe/Athens:20200617T194500
DTSTAMP:20260419T155344
CREATED:20200616T222306Z
LAST-MODIFIED:20210207T201620Z
UID:6284-1592420400-1592423100@oldsite.idifono.gr
SUMMARY:ΗΔΥΦΩΝΟ LIVE ΠΑΡΟΥΣΙΑΣΗ ΒΙΒΛΙΟΥ "Η ΛΙΔΑ Η ΧΡΥΣΑΛΛΙΔΑ"
DESCRIPTION:ΗΔΥΦΩΝΟ LIVE ΠΑΡΟΥΣΙΑΣΗ ΒΙΒΛΙΟΥ \n“Η ΛΙΔΑ Η ΧΡΥΣΑΛΛΙΔΑ\, ΜΙΑ ΠΕΤΑΛΟΥΔΑ ΓΙΑ ΤΟΣΟ… ΛΙΓΟ!” \nΤην Τετάρτη 17 Ιουνίου στις 7μ.μ. μη χάσετε την πρώτη μας διαδικτυακή παρουσίαση βιβλίου!!! \nΤο νέο παραμύθι του Γιώργου Μουτσινά με τίτλο «Η Λίδα η Χρυσαλλίδα\, μια πεταλούδα για τόσο… λίγο!»\, που μόλις κυκλοφόρησε από τις εκδόσεις μας\, θα παρουσιαστεί σε μία ζωντανή συνάντηση που θα γίνει στη σελίδα μας στο Facebook. Για το βιβλίο και τον συγγραφέα θα μιλήσουν η Φωτεινή Παπαλιούρα\, Εκπαιδευτικός πρωτοβάθμιας εκπαίδευσης και η Ελένη Παναγιωτακοπούλου\, ψυχολόγος σε δομή φιλοξενίας προσφύγων. Μέρος των εσόδων από το βιβλίο θα διατεθεί για την ενίσχυση της Κιβωτού του Κόσμου! \nΠαρακολουθήστε εδώ!
URL:https://oldsite.idifono.gr/event/idifono-live-parousiasi-vivliou-lida-i-xrysallida/
LOCATION:FACEBOOK
CATEGORIES:Online Event
ATTACH;FMTTYPE=image/jpeg:https://oldsite.idifono.gr/wp-content/uploads/2020/06/παρουσίασηχρυσαλλίδα5-1-scaled.jpg
END:VEVENT
END:VCALENDAR