BEGIN:VCALENDAR
VERSION:2.0
PRODID:-//Idifono - ECPv5.3.2.1//NONSGML v1.0//EN
CALSCALE:GREGORIAN
METHOD:PUBLISH
X-WR-CALNAME:Idifono
X-ORIGINAL-URL:https://oldsite.idifono.gr
X-WR-CALDESC:Idifono - Εκδηλώσεις
BEGIN:VTIMEZONE
TZID:Europe/Athens
BEGIN:DAYLIGHT
TZOFFSETFROM:+0200
TZOFFSETTO:+0300
TZNAME:EEST
DTSTART:20200329T010000
END:DAYLIGHT
BEGIN:STANDARD
TZOFFSETFROM:+0300
TZOFFSETTO:+0200
TZNAME:EET
DTSTART:20201025T010000
END:STANDARD
END:VTIMEZONE
BEGIN:VEVENT
DTSTART;TZID=Europe/Athens:20200803T210000
DTEND;TZID=Europe/Athens:20200803T230000
DTSTAMP:20260419T172045
CREATED:20200718T155345Z
LAST-MODIFIED:20200721T090711Z
UID:6343-1596488400-1596495600@oldsite.idifono.gr
SUMMARY:"Η Μελίνα μας εμπνέει..." στο Αρχαίο Θέατρο Αιγείρας
DESCRIPTION:«Η Μελίνα μας εμπνέει…» \nΣτο αρχαίο θέατρο της Αιγείρας στις 3 Αυγούστου\, στην πανσέληνο θα πραγματοποιηθεί η μουσική παράσταση «Η Μελίνα μας εμπνέει…». Μια ατμοσφαιρική  παράσταση αφιερωμένη στη Μελίνα Μερκούρη μέσα από κείμενα δικά της για τη ζωή της\, την καριέρα της ως ηθοποιού και ως πολιτικού\, την αντιστασιακή της δράση στη χούντα αλλά και μέσα από τα τραγούδια της και τους σημαντικούς ρόλους που έχει ερμηνεύσει. \nΤέσσερις γυναίκες της Τέχνης η σπουδαία ηθοποιός Δήμητρα Χατούπη  και τρεις σημαντικές ερμηνεύτριες\, η Ηρώ Σαΐα\, η Ανδριάνα Μπάμπαλη και η Έλενα Λεώνη Παπαδημητρίου εμπνευσμένες από τη Μελίνα που αποτέλεσε εμβληματική προσωπικότητα στην Τέχνη και στην πολιτική θα μας μεταφέρουν η κάθε μια με το δικό της τρόπο στον δικό της  κόσμο και  την πολυδιάστατη προσωπικότητά  της. \nΜαζί τους ο εξαιρετικός πιανίστας Νεοκλής Νεοφυτίδης  και ο Σάκης Παπαδημητρίου που έχει και τη μουσική  επιμέλεια της παράστασης. \nΤην επιμέλεια των video της παράστασης έχει ο Ανδρέας  Άννινος ενώ τα κείμενα και τη σύνθεση της παράστασης έχει κάνει η Μαρία Παναγιωτακοπούλου. \nΧορηγός επικοινωνίας: ΕΡΤ \nΠΛΗΡΟΦΟΡΙΕΣ ΓΙΑ ΤΗΝ ΚΡΑΤΗΣΗ ΠΡΟΣΚΛΗΣΕΩΝ ΚΑΙ ΓΙΑ ΤΗ ΜΕΤΑΦΟΡΑ ΣΤΟ ΧΩΡΟ ΤΟΥ ΑΡΧΑΙΟΥ ΘΕΑΤΡΟΥ ΜΕ ΛΕΩΦΟΡΕΙΟ 
URL:https://oldsite.idifono.gr/event/i-melina-mas-empneei/
LOCATION:Αρχαίο Θέατρο Αιγείρας\, Greece
CATEGORIES:Μουσικοθεατρική Παράσταση
ATTACH;FMTTYPE=image/jpeg:https://oldsite.idifono.gr/wp-content/uploads/2020/07/poster_MELINA.jpg
END:VEVENT
END:VCALENDAR