BEGIN:VCALENDAR
VERSION:2.0
PRODID:-//Idifono - ECPv5.3.2.1//NONSGML v1.0//EN
CALSCALE:GREGORIAN
METHOD:PUBLISH
X-WR-CALNAME:Idifono
X-ORIGINAL-URL:https://oldsite.idifono.gr
X-WR-CALDESC:Idifono - Εκδηλώσεις
BEGIN:VTIMEZONE
TZID:Europe/Athens
BEGIN:DAYLIGHT
TZOFFSETFROM:+0200
TZOFFSETTO:+0300
TZNAME:EEST
DTSTART:20190331T010000
END:DAYLIGHT
BEGIN:STANDARD
TZOFFSETFROM:+0300
TZOFFSETTO:+0200
TZNAME:EET
DTSTART:20191027T010000
END:STANDARD
END:VTIMEZONE
BEGIN:VEVENT
DTSTART;TZID=Europe/Athens:20190623T210000
DTEND;TZID=Europe/Athens:20190623T230000
DTSTAMP:20260419T201336
CREATED:20190608T095140Z
LAST-MODIFIED:20190608T095654Z
UID:4703-1561323600-1561330800@oldsite.idifono.gr
SUMMARY:Η "ΑριστοφΟινιάδα" στην Πάτρα
DESCRIPTION:Mια μεγάλη μουσικοθεατρική-χορευτική παράσταση διοργανώνει  την Κυριακή 23 Ιουνίου στις 9μ.μ.\, ο Πολιτιστικός Όμιλος Τ.Ε.Ι. Δυτικής Ελλάδας «Τέχνης Κίνηση»\, στο Συνεδριακό Κέντρο του ΤΕΙ Δυτ. Ελλάδας στην Πάτρα. Πρόκειται για την παράσταση με τον χαρακτηριστικό τίτλο “ΑριστοφΟινιάδα” όπου ο λόγος του Αριστοφάνη για το κρασί\, μέσα από τις κωμωδίες Αχαρνείς\, Ιππείς\, Λυσιστράτη και Εκκλησιάζουσες\, εμπλέκεται με αρχαία λυρική ποίηση\, αλλά και παραδοσιακά και σύγχρονα έντεχνα ελληνικά τραγούδια. \nΤο κείμενο έχει γράψει η Μαρία Παναγιωτακοπούλου\, που έχει αναλάβει και τη σκηνοθεσία\, ενώ τη μουσική επιμέλεια και μουσική σύνθεση έχει κάνει ο Σάκης Παπαδημητρίου.  Υπεύθυνος του Χορού είναι ο Κώστας Σουλτανάς και της Χορωδίας η Δώρα Πετρίδη\, η οποία ερμηνεύει επίσης τραγούδια της παράστασης\, Τα σκηνικά έχει αναλάβει ο Βασίλης Σουλτανας. \n  \nΣτον κεντρικό ρόλο του αριστοφανικού ήρωα είναι ο ηθοποιός Νίκος Παρασκευόπουλος \n  \nΣτην παράσταση συμμετέχουν: \nΠολιτιστικός Όμιλος Τ.Ε.Ι. Δυτικής Ελλάδας «Τέχνης Κίνηση» (Χορευτική ομάδα\, χορωδία\, Θεατρική ομάδα φοιτητών «ΚΟΜΠΑΡΣΟΙ») \nΧορευτικό Συλλόγου Δασκάλων & Νηπιαγωγών Πάτρας \nΜουσικό Σύνολο-Ηδύφωνο \nΘεατρική Έκφραση Αιγίου \nΘεατρική Ομάδα «Αποφοίτων» Αιγίου \n  \nΗ είσοδος είναι ελεύθερη \n  \nΣας περιμένουμε! \n  \n*Η Μαρία Παναγιωτακοπούλου\,  συγγραφέας και σκηνοθέτις της παράστασης αναφέρει: “Ένας αριστοφανικός ήρωας\, εκφραστής και υμνητής της ζωής\, εμφανίζεται μετά από χιλιάδες χρόνια και διατρέχοντας τις κωμωδίες του Αριστοφάνη\, που κάνουν αναφορά στο κρασί\, έρχεται να μας θυμίσει  τα αγαθά της ζωής\, που πολλές φορές λησμονάμε\,  το γέλιο\, το τραγούδι\, το γλέντι και τη χαρά \,που αποτελούν για τον άνθρωπο όπλα ζωής. Παράλληλα όμως έρχεται να μας ταρακουνήσει σαρκάζοντας και γελοιοποιώντας θέματα πολιτικά και κοινωνικά και καθώς στηλιτεύει τα κακώς κείμενα της εποχής του\, μας αποδεικνύει πόσο επίκαιρος και ουσιαστικός είναι ο λόγος του Αριστοφάνη”.   \nΔείτε επίσης:  Κωστής Παλαμάς "Οι μούσες που αγάπησα" στη Σύρο
URL:https://oldsite.idifono.gr/event/aristofoiniada-tei/
LOCATION:Συνεδριακό Κέντρο ΤΕΙ Δυτ. Ελλάδας\, Θεοτοκόπουλου 1\, Πάτρα\, 26334\, Greece
CATEGORIES:Μουσικοθεατρική Παράσταση
ATTACH;FMTTYPE=image/jpeg:https://oldsite.idifono.gr/wp-content/uploads/2019/06/αφισα-ΤΕΙ.jpg
END:VEVENT
END:VCALENDAR