BEGIN:VCALENDAR
VERSION:2.0
PRODID:-//Idifono - ECPv5.3.2.1//NONSGML v1.0//EN
CALSCALE:GREGORIAN
METHOD:PUBLISH
X-WR-CALNAME:Idifono
X-ORIGINAL-URL:https://oldsite.idifono.gr
X-WR-CALDESC:Idifono - Εκδηλώσεις
BEGIN:VTIMEZONE
TZID:Europe/Helsinki
BEGIN:DAYLIGHT
TZOFFSETFROM:+0200
TZOFFSETTO:+0300
TZNAME:EEST
DTSTART:20180325T010000
END:DAYLIGHT
BEGIN:STANDARD
TZOFFSETFROM:+0300
TZOFFSETTO:+0200
TZNAME:EET
DTSTART:20181028T010000
END:STANDARD
END:VTIMEZONE
BEGIN:VEVENT
DTSTART;TZID=Europe/Helsinki:20181227T180000
DTEND;TZID=Europe/Helsinki:20181227T200000
DTSTAMP:20260421T234930
CREATED:20190220T011305Z
LAST-MODIFIED:20210207T202040Z
UID:3560-1545933600-1545940800@oldsite.idifono.gr
SUMMARY:Το Ταξίδι του Ανακρέοντα και της Ανακρεόντειας Ποίησης στη Ρωσία
DESCRIPTION:Το ΙΝΣΤΙΤΟΥΤΟ ΠΟΥΣΚΙΝ\, στο πλαίσιο της διοργάνωσης “ΑΘΗΝΑ 2018 ΠΑΓΚΟΣΜΙΑ ΠΡΩΤΕΥΟΥΣΑ ΒΙΒΛΙΟΥ ” του ΔΗΜΟΥ ΑΘΗΝΑΙΩΝ ολοκληρώνοντας τη σειρά εκδηλώσεων «ΓΕΦΥΡΕΣ»\, παρουσιάζει σε συνεργασία με τις εκδόσεις ΗΔΥΦΩΝΟ μια βραδιά λόγου και μουσικής με θέμα «ΤΟ ΤΑΞΙΔΙ ΤΟΥ ΑΝΑΚΡΕΟΝΤΑ ΚΑΙ ΤΗΣ ΑΝΑΚΡΕΟΝΤΕΙΑΣ ΠΟΙΗΣΗΣ ΣΤΗ ΡΩΣΙΑ». Μια ωδή\, που υμνεί το δικαίωμα του ανθρώπου στην ευτυχία\, ταξιδεύει από την Αρχαία Ελλάδα στη Γαλλία\, την Αγγλία και τη Ρωσία και ντύνει με μουσική τον εθνικό ύμνο των ΗΠΑ. \nΟ συνθέτης–φιλόλογος Σάκης Παπαδημητρίου θα παρουσιάσει τη διαδρομή της ανακρεόντειας ποίησης στη Ρωσία του 18ου αιώνα μέσα από τη σπάνια ελληνορωσική έκδοση «ΑΝΑΚΡΕΩΝ»\, που πραγματοποιήθηκε το 1794 στην Αγία Πετρούπολη με τη συνεργασία του Ευγένιου Βούλγαρη και του Ρώσου ποιητή Νικολάϊ Λβοβ. \nΣτο πλαίσιο της παρουσίασης θα ακουστούν τραγούδια από το έργο «Του Κρασιού και του Έρωτα»\, δισκογραφική συνεργασία του συνθέτη με τον ερμηνευτή Βασίλη Λέκκα πάνω σε μελοποιημένη ανακρεόντεια λυρική ποίηση. \nΣυμμετέχει το μουσικό σύνολο «Ηδύφωνο»\, με τους σολίστες: Γιώργο Αναστασόπουλο: πιάνο\nΝίνο Κιτάνι: φλάουτο\nΜανόλη Κόττορο: βιολί\nΈλενα Παπαδημητρίου: τσέλο \nΑποσπάσματα ανακρεόντειας ποίησης και ποίηση του Αλεξάντερ Πούσκιν θα διαβάσει ο ηθοποιός Παύλος Εμμανουηλίδης. \nΤο κρασί στην εκδήλωση θα προσφέρει το οινοποιείο Ρούβαλης \nΗ είσοδος είναι ελεύθερη.
URL:https://oldsite.idifono.gr/event/%cf%84%ce%bf-%cf%84%ce%b1%ce%be%ce%af%ce%b4%ce%b9-%cf%84%ce%bf%cf%85-%ce%b1%ce%bd%ce%b1%ce%ba%cf%81%ce%ad%ce%bf%ce%bd%cf%84%ce%b1/
LOCATION:Πολιτιστικό Κέντρο “Μελίνα”\, Ηρακλειδών 66\, Αθήνα\, Greece
CATEGORIES:Άλλο
ATTACH;FMTTYPE=image/jpeg:https://oldsite.idifono.gr/wp-content/uploads/2019/02/ανακρεοντας-αφισα.jpg
END:VEVENT
END:VCALENDAR