BEGIN:VCALENDAR
VERSION:2.0
PRODID:-//Idifono - ECPv5.3.2.1//NONSGML v1.0//EN
CALSCALE:GREGORIAN
METHOD:PUBLISH
X-WR-CALNAME:Idifono
X-ORIGINAL-URL:https://oldsite.idifono.gr
X-WR-CALDESC:Idifono - Εκδηλώσεις
BEGIN:VTIMEZONE
TZID:Europe/Athens
BEGIN:DAYLIGHT
TZOFFSETFROM:+0200
TZOFFSETTO:+0300
TZNAME:EEST
DTSTART:20130331T010000
END:DAYLIGHT
BEGIN:STANDARD
TZOFFSETFROM:+0300
TZOFFSETTO:+0200
TZNAME:EET
DTSTART:20131027T010000
END:STANDARD
END:VTIMEZONE
BEGIN:VEVENT
DTSTART;TZID=Europe/Athens:20130825T220000
DTEND;TZID=Europe/Athens:20130826T000000
DTSTAMP:20260422T195309
CREATED:20200330T200636Z
LAST-MODIFIED:20200330T200636Z
UID:5763-1377468000-1377475200@oldsite.idifono.gr
SUMMARY:"Του Κρασιού και του Έρωτα" στα Οινοξένεια
DESCRIPTION:Μια μουσική παράσταση\, όπου η μελοποιημένη λυρική ποίηση του Ανακρέοντα\, της Σαπφούς\, του Αλκαίου και άλλων λυρικών που μιλούν για τον Έρωτα και το Κρασί\, πλέκεται αρμονικά με λόγο και εικόνα δημιουργώντας μια ατμόσφαιρα μεθυστικής υποβλητικότητας. \nΣΥΝΘΕΤΗΣ: ΣΑΚΗΣ ΠΑΠΑΔΗΜΗΤΡΙΟΥ \nΕΡΜΗΝΕΥΤΗΣ:ΒΑΣΙΛΗΣ ΛΕΚΚΑΣ \n  \nΘΕΑΤΡΙΚΗ ΑΦΗΓΗΣΗ : ΗΛΙΑΣ ΛΟΓΟΘΕΤΗΣ\,  ΜΑΡΙΑ ΖΑΧΑΡΗ ΟΡΧΗΣΤΡΑ: ΜΟΥΣΙΚΟ ΣΥΝΟΛΟ «ΗΔΥΦΩΝΟ»   \n  \nΓιώργος Αναστασόπουλος : πλήκτρα-ενορχήστρωση \nΝίνο Κιτάνι: φλάουτο-φλογέρα-κλαρινέτο \nΜανόλης Κόττορος: βιολί \nΑσπα Παπαδημητρίου: κρουστά \nΈλενα Παπαδημητρίου: τσέλο \nΣάκης Παπαδημητρίου : κιθάρα \n  \nΚΕΙΜΕΝΑ –ΕΠΙΜΕΛΕΙΑ ΠΑΡΑΣΤΑΣΗΣ: Μαρία Παναγιωτακοπούλου
URL:https://oldsite.idifono.gr/event/%cf%84%ce%bf%cf%85-%ce%ba%cf%81%ce%b1%cf%83%ce%b9%ce%bf%cf%8d-%ce%ba%ce%b1%ce%b9-%cf%84%ce%bf%cf%85-%ce%ad%cf%81%cf%89%cf%84%ce%b1-%cf%83%cf%84%ce%b1-%ce%bf%ce%b9%ce%bd%ce%bf%ce%be%ce%ad%ce%bd/
LOCATION:Προαύλειος χώρος Πολυκέντρου Μυρτιάς Αιγίου\, Αίγιο\, Greece
CATEGORIES:Συναυλία
ATTACH;FMTTYPE=image/jpeg:https://oldsite.idifono.gr/wp-content/uploads/2020/03/ΤΟΥ-ΚΡΑΣΙΟΥ-ΚΑΙ-ΤΟΥ-ΕΡΩΤΑ.jpg
END:VEVENT
END:VCALENDAR