BEGIN:VCALENDAR
VERSION:2.0
PRODID:-//Idifono - ECPv5.3.2.1//NONSGML v1.0//EN
CALSCALE:GREGORIAN
METHOD:PUBLISH
X-WR-CALNAME:Idifono
X-ORIGINAL-URL:https://oldsite.idifono.gr
X-WR-CALDESC:Idifono - Εκδηλώσεις
BEGIN:VTIMEZONE
TZID:Europe/Athens
BEGIN:DAYLIGHT
TZOFFSETFROM:+0200
TZOFFSETTO:+0300
TZNAME:EEST
DTSTART:20180325T010000
END:DAYLIGHT
BEGIN:STANDARD
TZOFFSETFROM:+0300
TZOFFSETTO:+0200
TZNAME:EET
DTSTART:20181028T010000
END:STANDARD
END:VTIMEZONE
BEGIN:VEVENT
DTSTART;TZID=Europe/Athens:20180603T200000
DTEND;TZID=Europe/Athens:20180603T220000
DTSTAMP:20260422T105912
CREATED:20180616T175536Z
LAST-MODIFIED:20210207T202212Z
UID:4527-1528056000-1528063200@oldsite.idifono.gr
SUMMARY:Παρουσίαση του βιβλίου "Πεζοπορώντας με τα όνειρα" στο Αίγιο
DESCRIPTION:Την Κυριακή\, 3 Ιουνίου\, θα γίνει η παρουσίαση της νέας ποιητικής συλλογής του Ευθύμιου Φαλτάκα με τίτλο “Πεζοπορώντας με τα όνειρα” στην Ιόνιο Βιβλιοθήκη (Ανδρονοπούλου 12-Αίγιο). \nΓια τον ποιητή και το ποιητικό του έργο θα μιλήσουν η φιλόλογος-κριτικός λογοτεχνίας κ.Βανα Μπεντεβή\, η Μαρία Παναγιωτακοπούλου\, συγγραφέας-υπεύθυνη εκδόσεων “Ηδύφωνο” και η ραδιοφωνική παραγωγός\, Μαίρη Ζαχαράκη.\nΠοιήματα από την ποιητική συλλογή «Πεζοπορώντας με τα όνειρα» θα διαβάσουν η Χριστίνα Κοκοτή και η Μαίρη Ζαχαράκη. Σας περιμένουμε!
URL:https://oldsite.idifono.gr/event/%cf%80%ce%b1%cf%81%ce%bf%cf%85%cf%83%ce%af%ce%b1%cf%83%ce%b7-%cf%84%ce%bf%cf%85-%ce%b2%ce%b9%ce%b2%ce%bb%ce%af%ce%bf%cf%85-%cf%80%ce%b5%ce%b6%ce%bf%cf%80%ce%bf%cf%81%cf%8e%ce%bd%cf%84%ce%b1%cf%82/
LOCATION:Ιόνιος Βιβλιοθήκη\, Ανδρονοπούλου 12\, Αίγιο\, 25100
CATEGORIES:Παρουσίαση Βιβλίου
ATTACH;FMTTYPE=image/jpeg:https://oldsite.idifono.gr/wp-content/uploads/2019/04/φαλτακας-αφισα.jpg
END:VEVENT
END:VCALENDAR