BEGIN:VCALENDAR
VERSION:2.0
PRODID:-//Idifono - ECPv5.3.2.1//NONSGML v1.0//EN
CALSCALE:GREGORIAN
METHOD:PUBLISH
X-WR-CALNAME:Idifono
X-ORIGINAL-URL:https://oldsite.idifono.gr
X-WR-CALDESC:Idifono - Εκδηλώσεις
BEGIN:VTIMEZONE
TZID:Europe/Athens
BEGIN:DAYLIGHT
TZOFFSETFROM:+0200
TZOFFSETTO:+0300
TZNAME:EEST
DTSTART:20180325T010000
END:DAYLIGHT
BEGIN:STANDARD
TZOFFSETFROM:+0300
TZOFFSETTO:+0200
TZNAME:EET
DTSTART:20181028T010000
END:STANDARD
END:VTIMEZONE
BEGIN:VEVENT
DTSTART;TZID=Europe/Athens:20181216T113000
DTEND;TZID=Europe/Athens:20181216T133000
DTSTAMP:20260422T013748
CREATED:20190408T162525Z
LAST-MODIFIED:20210207T202051Z
UID:4524-1544959800-1544967000@oldsite.idifono.gr
SUMMARY:Παρουσίαση του βιβλίου "Ο Υφασμάτινος Δράκος" στην Πρέβεζα
DESCRIPTION:Παρουσίαση του βιβλίου “Ο Υφασμάτινος Δράκος” του Γιώργου Αυγέρη που κυκλοφορεί από τις εκδόσεις Ηδύφωνο στην Πρέβεζα\, στην αίθουσα Αθανασιάδη (Γιάννη Μόραλη). \nΥπάρχουν δράκοι;\nΚαι πού ζουν; \nΈνας δράκος καταστρέφει τη Γη με συμμάχους τους ανθρώπους. Την κρίσιμη ώρα η πίστη δύο μικρών παιδιών θα πείσει έναν άλλο δράκο να παλέψει για τη σωτηρία του πλανήτη.\nΥπάρχει ελπίδα; \nΟ υφασμάτινος δράκος με τη βοήθεια δυο μικρών παιδιών\, του Θωμά και της Νεφέλης θα σώσει τον πλανήτη από την καταστροφική μανία του πλαστικού δράκου. \nΟμιλητές: \nΣίσσυ Τσαούση\, νηπιαγωγός \nΜαρία Παναγιωτακοπούλου\, υπεύθυνη εκδόσεων Ηδύφωνο \nΖουμπουλιά Σπυροπούλου\, εκπαιδευτικός – μουσικός
URL:https://oldsite.idifono.gr/event/%cf%80%ce%b1%cf%81%ce%bf%cf%85%cf%83%ce%af%ce%b1%cf%83%ce%b7-%cf%84%ce%bf%cf%85-%ce%b2%ce%b9%ce%b2%ce%bb%ce%af%ce%bf%cf%85-%ce%bf-%cf%85%cf%86%ce%b1%cf%83%ce%bc%ce%ac%cf%84%ce%b9%ce%bd%ce%bf%cf%82-3/
LOCATION:Αίθουσα Αθανασιάδη\, Σαπουντζάκη 4\, Πρέβεζα\, 48100
CATEGORIES:Παρουσίαση Βιβλίου
ATTACH;FMTTYPE=image/jpeg:https://oldsite.idifono.gr/wp-content/uploads/2019/04/αφισα-υφασμ-πρεβ.jpg
END:VEVENT
END:VCALENDAR