BEGIN:VCALENDAR
VERSION:2.0
PRODID:-//Idifono - ECPv5.3.2.1//NONSGML v1.0//EN
CALSCALE:GREGORIAN
METHOD:PUBLISH
X-WR-CALNAME:Idifono
X-ORIGINAL-URL:https://oldsite.idifono.gr
X-WR-CALDESC:Idifono - Εκδηλώσεις
BEGIN:VTIMEZONE
TZID:Europe/Athens
BEGIN:DAYLIGHT
TZOFFSETFROM:+0200
TZOFFSETTO:+0300
TZNAME:EEST
DTSTART:20180325T010000
END:DAYLIGHT
BEGIN:STANDARD
TZOFFSETFROM:+0300
TZOFFSETTO:+0200
TZNAME:EET
DTSTART:20181028T010000
END:STANDARD
END:VTIMEZONE
BEGIN:VEVENT
DTSTART;TZID=Europe/Athens:20180518T193000
DTEND;TZID=Europe/Athens:20180518T213000
DTSTAMP:20260422T120752
CREATED:20190408T181716Z
LAST-MODIFIED:20210207T202219Z
UID:4531-1526671800-1526679000@oldsite.idifono.gr
SUMMARY:Παρουσίαση του βιβλίου "Οι Χρυσοπράσινοι φίλοι μου\, Καμή" στην Πάτρα
DESCRIPTION:Το βιβλίο των εκδόσεων μας “Οι χρυσοπράσινοι φίλοι μου\, Καμή” της Αναστασίας Ευσταθίου\, θα παρουσιαστεί στο Μουσείο Λαϊκής Τέχνης Δήμου Πατρέων\, στο Παλαιό Δημοτικό Νοσοκομείο στις 18 Μαΐου στις 19:30. \nΠρόκειται για ένα εφηβικό μυθιστόρημα που αφηγείται η Αναστασία\, μια από τις μαθήτριες του σχολείου της Ακράτας\, μέσα από τις σελίδες του προσωπικού της ημερολογίου\, που το έχει ονομάσει «Καμή» και καλύπτει μια χρονική περίοδο 8 ετών με μεγάλα διαλείμματα και συνταρακτικές αλλαγές σε προσωπικό και εθνικό επίπεδο. \nΠρωταγωνιστές του εφηβικού αυτού βιβλίου είναι οι πραγματικές μαρτυρίες Κυπρίων\, οι εργασίες μαθητών που συμμετέχουν στο διεθνές περιβαλλοντικό πρόγραμμα «Χρυσοπράσινο Φύλλο» αλλά και το συναισθηματικό δέσιμο\, τα εφηβικά όνειρα και η παντοτινή φιλία που αναπτύχθηκε ανάμεσα στους μαθητές δύο κωμοπόλεων\, της Ακράτας Αχαΐας και της Άχνας Αμμοχώστου. \nΤο βιβλίο παρουσιάζουν οι: \nΤίνα Παπασωτηροπούλου – εκπαιδευτικός \nΘεόδωρος Χατζηιωάννου – παιδίατρος\, πρόσφυγας εξ’  Άχνας Αμμοχώστου \n  \nΣυντονίζει ο Θανάσης Μπαμπανέβας – Δημοσιογράφος\, Πρόεδρος ΤΕΑΣ \nΔιαβάζει η Γεωργία Ζαχαροπούλου απ’την ομάδα εκπαιδευτικών ΠΑΙΖΩΔΡΟΜΙΟ \n  \nΜουσικός επίλογος: \nΘανάσης Μπεκούλης – ούτι \nΓιάννης Παναγιωτόπουλος – λύρα\, Υπεύθυνος Τμήματος Παραδοσιακής Μουσικής της Φιλαρμονικής Εταιρείας – Ωδείο Πατρών \nΣας περιμένουμε!!
URL:https://oldsite.idifono.gr/event/%cf%80%ce%b1%cf%81%ce%bf%cf%85%cf%83%ce%af%ce%b1%cf%83%ce%b7-%cf%84%ce%bf%cf%85-%ce%b2%ce%b9%ce%b2%ce%bb%ce%af%ce%bf%cf%85-%ce%bf%ce%b9-%cf%87%cf%81%cf%85%cf%83%ce%bf%cf%80%cf%81%ce%ac%cf%83%ce%b9/
LOCATION:Μουσείο Λαϊκής Τέχνης Πατρών\, Πάτρα
CATEGORIES:Παρουσίαση Βιβλίου
ATTACH;FMTTYPE=image/jpeg:https://oldsite.idifono.gr/wp-content/uploads/2019/04/καμη-αφισα.jpg
END:VEVENT
END:VCALENDAR