BEGIN:VCALENDAR
VERSION:2.0
PRODID:-//Idifono - ECPv5.3.2.1//NONSGML v1.0//EN
CALSCALE:GREGORIAN
METHOD:PUBLISH
X-WR-CALNAME:Idifono
X-ORIGINAL-URL:https://oldsite.idifono.gr
X-WR-CALDESC:Idifono - Εκδηλώσεις
BEGIN:VTIMEZONE
TZID:Europe/Athens
BEGIN:DAYLIGHT
TZOFFSETFROM:+0200
TZOFFSETTO:+0300
TZNAME:EEST
DTSTART:20200329T010000
END:DAYLIGHT
BEGIN:STANDARD
TZOFFSETFROM:+0300
TZOFFSETTO:+0200
TZNAME:EET
DTSTART:20201025T010000
END:STANDARD
END:VTIMEZONE
BEGIN:VEVENT
DTSTART;TZID=Europe/Athens:20200129T190000
DTEND;TZID=Europe/Athens:20200129T210000
DTSTAMP:20260419T201740
CREATED:20200114T225554Z
LAST-MODIFIED:20200128T195625Z
UID:5429-1580324400-1580331600@oldsite.idifono.gr
SUMMARY:Παρουσίαση του βιβλίου "Θόρυβοι και Καπιταλισμός" στο Duende Jazz Bar
DESCRIPTION:Την Τετάρτη\, 29 Ιανουαρίου στις 7 μ.μ θα παρουσιαστεί το βιβλίο “Θόρυβοι και Καπιταλισμός” στο Duende Jazz Bar στη Θεσσαλονίκη. \nΤο βιβλίο “Θόρυβοι και Καπιταλισμός” έρχεται να διαπραγματευτεί τη θέση κάθε είδους πειραματικής μουσικής με την καπιταλιστική διαμεσολάβηση. Μέσω μιας σειράς δοκιμίων από γνωστούς καλλιτέχνες όπως ο Bruce Russell\, o Εddie Prevost\, ο Mattin\, η Nina Power κ.α. το βιβλίο παραθέτει προσωπικούς προβληματισμούς για τη θέση του πειραματισμού στην μεταπολεμική εποχή. Τα κείμενα κινούνται μεταξύ μιας παιχνιδιάρικης διάθεσης\, κατάθεσης προσωπικών εμπειριών και της μεθοδολογικής προσέγγισης της σύγχρονης πειραματικής μουσικής. Έρχονται να φωνάξουν πως τα είδη της μουσικής δεν έχουν πλέον καμία σημασία και πως ο\, κάθε είδους\, πειραματισμός μας αφορά. \nΜετάφραση: Ματθαίος Δακουτρός\, Θάλεια Κακλιδάκη\, Φώτης Νικολακόπουλος\, Ισιδώρα Στανιμεράκη \nΠαρουσίαση\, Σχολιασμός:\nΦώτης Νικολακόπουλος (μεταφραστής) \nDuende Jazz Bar \nΚαλαποθάκη 16\nΘεσσαλονίκη 54624 \nΕίσοδος ελεύθερη
URL:https://oldsite.idifono.gr/event/%cf%80%ce%b1%cf%81%ce%bf%cf%85%cf%83%ce%af%ce%b1%cf%83%ce%b7-%cf%84%ce%bf%cf%85-%ce%b2%ce%b9%ce%b2%ce%bb%ce%af%ce%bf%cf%85-%ce%b8%cf%8c%cf%81%cf%85%ce%b2%ce%bf%ce%b9-%ce%ba%ce%b1%ce%b9-%ce%ba%ce%b1/
LOCATION:Duende Jazz Bar\, Καλαποθάκη 16\, Θεσσαλονίκη\, 54624\, Greece
CATEGORIES:Παρουσίαση Βιβλίου
ATTACH;FMTTYPE=image/jpeg:https://oldsite.idifono.gr/wp-content/uploads/2019/11/74666330_2695159473840803_97143471516680192_o.jpg
END:VEVENT
END:VCALENDAR