BEGIN:VCALENDAR
VERSION:2.0
PRODID:-//Idifono - ECPv5.3.2.1//NONSGML v1.0//EN
CALSCALE:GREGORIAN
METHOD:PUBLISH
X-WR-CALNAME:Idifono
X-ORIGINAL-URL:https://oldsite.idifono.gr
X-WR-CALDESC:Idifono - Εκδηλώσεις
BEGIN:VTIMEZONE
TZID:Europe/Athens
BEGIN:DAYLIGHT
TZOFFSETFROM:+0200
TZOFFSETTO:+0300
TZNAME:EEST
DTSTART:20200329T010000
END:DAYLIGHT
BEGIN:STANDARD
TZOFFSETFROM:+0300
TZOFFSETTO:+0200
TZNAME:EET
DTSTART:20201025T010000
END:STANDARD
END:VTIMEZONE
BEGIN:VEVENT
DTSTART;TZID=Europe/Athens:20200131T183000
DTEND;TZID=Europe/Athens:20200131T200000
DTSTAMP:20260419T185417
CREATED:20200128T195444Z
LAST-MODIFIED:20200128T195444Z
UID:5435-1580495400-1580500800@oldsite.idifono.gr
SUMMARY:Παρουσίαση του βιβλίου "Θόρυβοι και Καπιταλισμός" στις Ακυβέρνητες Πολιτείες
DESCRIPTION:Παρουσίαση του βιβλίου ” Θόρυβοι και καπιταλισμός” την Παρασκευή στις 31/1 στις 6.30 μ.μ. στο συνεργατικό βιβλιοπωλείο Ακυβέρνητες Πολιτείες. \nΤο βιβλίο “Θόρυβοι και Καπιταλισμός” έρχεται να διαπραγματευτεί τη θέση κάθε είδους πειραματικής μουσικής με την καπιταλιστική διαμεσολάβηση. Μέσω μιας σειράς δοκιμίων από γνωστούς καλλιτέχνες όπως ο Bruce Russell\, o Εddie Prevost\, ο Mattin\, η Nina Power κ.α. το βιβλίο παραθέτει προσωπικούς προβληματισμούς για τη θέση του πειραματισμού στην μεταπολεμική εποχή. Τα κείμενα κινούνται μεταξύ μιας παιχνιδιάρικης διάθεσης\, κατάθεσης προσωπικών εμπειριών και της μεθοδολογικής προσέγγισης της σύγχρονης πειραματικής μουσικής. Έρχονται να φωνάξουν πως τα είδη της μουσικής δεν έχουν πλέον καμία σημασία και πως ο\, κάθε είδους\, πειραματισμός μας αφορά. \nΜετάφραση: Ματθαίος Δακουτρός\, Θάλεια Κακλιδάκη\, Φώτης Νικολακόπουλος\, Ισιδώρα Στανιμεράκη \nΟΜΙΛΗΤΕΣ\nΔΑΝΑΗ ΣΤΕΦΑΝΟΥ\nΚΑΘ. ΤΜ. ΜΟΥΣΙΚΩΝ ΣΠΟΥΔΩΝ Α.Π.Θ \nΦΩΤΗΣ ΝΙΚΟΛΑΚΟΠΟΥΛΟΣ\nΜΕΤΑΦΡΑΣΤΗΣ ΤΟΥ ΒΙΒΛΙΟΥ \nΠαρέμβαση από τα\nσ.π.Α.Μ.*\n*Σύνολα Πειραματικής & Αυτοσχεδιαζόμενης Μουσικής
URL:https://oldsite.idifono.gr/event/%cf%80%ce%b1%cf%81%ce%bf%cf%85%cf%83%ce%af%ce%b1%cf%83%ce%b7-%cf%84%ce%bf%cf%85-%ce%b2%ce%b9%ce%b2%ce%bb%ce%af%ce%bf%cf%85-%ce%b8%cf%8c%cf%81%cf%85%ce%b2%ce%bf%ce%b9-%ce%ba%ce%b1%ce%b9-%ce%ba%ce%b1-2/
LOCATION:Ακυβέρνητες Πολιτείες\, Αλεξάνδρου Σβώλου 28\, Θεσσαλονίκη\, 54622\, Greece
CATEGORIES:Παρουσίαση Βιβλίου
ATTACH;FMTTYPE=image/jpeg:https://oldsite.idifono.gr/wp-content/uploads/2019/11/74666330_2695159473840803_97143471516680192_o.jpg
END:VEVENT
END:VCALENDAR