BEGIN:VCALENDAR
VERSION:2.0
PRODID:-//Idifono - ECPv5.3.2.1//NONSGML v1.0//EN
CALSCALE:GREGORIAN
METHOD:PUBLISH
X-WR-CALNAME:Idifono
X-ORIGINAL-URL:https://oldsite.idifono.gr
X-WR-CALDESC:Idifono - Εκδηλώσεις
BEGIN:VTIMEZONE
TZID:Europe/Athens
BEGIN:DAYLIGHT
TZOFFSETFROM:+0200
TZOFFSETTO:+0300
TZNAME:EEST
DTSTART:20150329T010000
END:DAYLIGHT
BEGIN:STANDARD
TZOFFSETFROM:+0300
TZOFFSETTO:+0200
TZNAME:EET
DTSTART:20151025T010000
END:STANDARD
END:VTIMEZONE
BEGIN:VEVENT
DTSTART;TZID=Europe/Athens:20150517T193000
DTEND;TZID=Europe/Athens:20150517T213000
DTSTAMP:20260422T183926
CREATED:20190408T182809Z
LAST-MODIFIED:20210207T202241Z
UID:4535-1431891000-1431898200@oldsite.idifono.gr
SUMMARY:Παρουσίαση του βιβλίου "Γράμμα στη μάνα της διπλανής πόρτας" στην Πάτρα
DESCRIPTION:Με μεγάλη μας χαρά σας προσκαλούμε στην παρουσίαση του βιβλίου της Αναστασίας Ευσταθίου “Γράμμα στη Μάνα της διπλανής πόρτας” την Κυριακή 17 Μαΐου στον κήπο του βιβλιοπωλείου ΠΟΛΥΕΔΡΟ στην Πάτρα\, Κανακάρη 147. \nΤο βιβλίο θα προλογίσουν οι: \nΠετρούλα Αντωνοπούλου – εκπαιδευτικός\, διευθύντρια 26ου Δημ. Σχολείου Πάτρας \nΔρ. Ανδρεάννα Κουφού – εκπαιδευτικός\, Υπεύθυνη Τμήματος Πολιτιστικων Θεμάτων Π.Ε. Αχαΐας \n  \nΗ παρουσίαση θα πλαισιωθεί με μουσική\, τραγούδια και αποσπάσματα του βιβλίου σε θεατρική απόδοση.
URL:https://oldsite.idifono.gr/event/%cf%80%ce%b1%cf%81%ce%bf%cf%85%cf%83%ce%af%ce%b1%cf%83%ce%b7-%cf%84%ce%bf%cf%85-%ce%b2%ce%b9%ce%b2%ce%bb%ce%af%ce%bf%cf%85-%ce%b3%cf%81%ce%ac%ce%bc%ce%bc%ce%b1-%cf%83%cf%84%ce%b7-%ce%bc%ce%ac%ce%bd/
LOCATION:Πολύεδρο\, Κανακάρη 147\, Πάτρα\, 26221
CATEGORIES:Παρουσίαση Βιβλίου
ATTACH;FMTTYPE=image/jpeg:https://oldsite.idifono.gr/wp-content/uploads/2019/04/γραμμα-αφισα.jpg
END:VEVENT
END:VCALENDAR