BEGIN:VCALENDAR
VERSION:2.0
PRODID:-//Idifono - ECPv5.3.2.1//NONSGML v1.0//EN
CALSCALE:GREGORIAN
METHOD:PUBLISH
X-WR-CALNAME:Idifono
X-ORIGINAL-URL:https://oldsite.idifono.gr
X-WR-CALDESC:Idifono - Εκδηλώσεις
BEGIN:VTIMEZONE
TZID:Europe/Helsinki
BEGIN:DAYLIGHT
TZOFFSETFROM:+0200
TZOFFSETTO:+0300
TZNAME:EEST
DTSTART:20190331T010000
END:DAYLIGHT
BEGIN:STANDARD
TZOFFSETFROM:+0300
TZOFFSETTO:+0200
TZNAME:EET
DTSTART:20191027T010000
END:STANDARD
END:VTIMEZONE
BEGIN:VEVENT
DTSTART;TZID=Europe/Helsinki:20190210T113000
DTEND;TZID=Europe/Helsinki:20190210T130000
DTSTAMP:20260421T192308
CREATED:20190217T231502Z
LAST-MODIFIED:20210207T202011Z
UID:3318-1549798200-1549803600@oldsite.idifono.gr
SUMMARY:Παρουσίαση του βιβλίου "Απολογία Πρώτη" στο Αίγιο
DESCRIPTION:Οι Εκδόσεις Ηδύφωνο – Idifono και ο Γεωργιος Τριανταφυλλοπουλος σας προσκαλούν στην παρουσίαση της πρώτης ποιητικής συλλογής του Γιώργου Τριανταφυλλόπουλου\, με τίτλο “Απολογία πρώτη” η οποία κυκλοφόρησε από τις εκδ. Ηδύφωνο\, εγκαινιάζοντας έναν νέο κύκλο εκδόσεων με θέμα «Σύγχρονοι Αιγιώτες ποιητές». \nΗ “Απολογία Πρωτη” πρόκειται για μια συλλογή ποιημάτων από 25 ποιήματα όπου ο συγγραφέας συνομιλεί ουσιαστικά με τον εαυτό του εκθέτοντας τις ανησυχίες του για την κοινωνία και τον άνθρωπο του σήμερα. Για τις ανθρώπινες αξίες\, την αλλοτρίωση\, την αδικία\, την εκμετάλλευση\, την υποκρισία\, τον έρωτα και τη ρηχότητα των σχέσεων. \nΓια τον ποιητή και το ποιητικό του έργο θα μιλήσουν η Βαρβάρα Χριστιά\, ποιήτρια\, πολιτικός μηχανικός και η Μαρία Παναγιωτακοπούλου\, συγγραφέας\, υπεύθυνη των εκδόσεων Ηδύφωνο. Ποιήματα από τη συλλογή θα διαβάσει η Βαρβάρα Σεφέρη φιλόλογος πρόεδρος της θεατρικής Έκφρασης Αιγίου. \nΣας περιμένουμε την Κυριακή 10 Φεβρουαρίου στις 11.30 το πρωί στο café του ξενοδοχείου ΤΕΛΗΣ (Κορίνθου 98-Αίγιο).
URL:https://oldsite.idifono.gr/event/%cf%80%ce%b1%cf%81%ce%bf%cf%85%cf%83%ce%af%ce%b1%cf%83%ce%b7-%cf%84%ce%bf%cf%85-%ce%b2%ce%b9%ce%b2%ce%bb%ce%af%ce%bf%cf%85-%ce%b1%cf%80%ce%bf%ce%bb%ce%bf%ce%b3%ce%af%ce%b1/
LOCATION:Ξενοδοχείο Τέλης\, Κορίνθου 98\, Αίγιο\, Greece
CATEGORIES:Παρουσίαση Βιβλίου
ATTACH;FMTTYPE=image/jpeg:https://oldsite.idifono.gr/wp-content/uploads/2019/02/51096612_2189153874734937_5104998256874618880_n.jpg
END:VEVENT
END:VCALENDAR