BEGIN:VCALENDAR
VERSION:2.0
PRODID:-//Idifono - ECPv5.3.2.1//NONSGML v1.0//EN
CALSCALE:GREGORIAN
METHOD:PUBLISH
X-WR-CALNAME:Idifono
X-ORIGINAL-URL:https://oldsite.idifono.gr
X-WR-CALDESC:Idifono - Εκδηλώσεις
BEGIN:VTIMEZONE
TZID:Europe/Athens
BEGIN:DAYLIGHT
TZOFFSETFROM:+0200
TZOFFSETTO:+0300
TZNAME:EEST
DTSTART:20180325T010000
END:DAYLIGHT
BEGIN:STANDARD
TZOFFSETFROM:+0300
TZOFFSETTO:+0200
TZNAME:EET
DTSTART:20181028T010000
END:STANDARD
END:VTIMEZONE
BEGIN:VEVENT
DTSTART;TZID=Europe/Athens:20180402T200000
DTEND;TZID=Europe/Athens:20180402T220000
DTSTAMP:20260422T133631
CREATED:20200329T151206Z
LAST-MODIFIED:20200329T151341Z
UID:5735-1522699200-1522706400@oldsite.idifono.gr
SUMMARY:"Ο Γολγοθάς" στην Οικία Κατακουζηνού
DESCRIPTION:«Ο ΓΟΛΓΟΘΑΣ» του Γιάννη Κουτσοχέρα σε έναν μουσικό διάλογο με τον συνθέτη Σάκη  Παπαδημητρίου στην οικία Κατακουζηνού τη Μεγάλη Δευτέρα\, 2 Απριλίου 8μ.μ. \nΟ συνθέτης Σάκης Παπαδημητρίου εμπνέεται και συνομιλεί μουσικά με το ποιητικό αριστούργημα «ΓΟΛΓΟΘΑΣ» του ποιητή Γιάννη Κουτσοχέρα σε μια παράλληλη μουσική θεώρηση και προέκταση των νοημάτων του κειμένου. Πρόκειται για ένα μουσικό αναλόγιο\, βασισμένο στο έργο «ΓΟΛΓΟΘΑΣ»\, ένα από τα ουσιαστικότερα ποιήματα του ποιητή του Ελλαδικού και Πανανθρώπινου χώρου – όπως ονομάστηκε ο Γιάννης Κουτσοχέρας. \nΣυντελεστές: \nΣΑΚΗΣ ΠΑΠΑΔΗΜΗΤΡΙΟΥ: έγχορδα \, πνευστά \nΕΥΑ ΚΟΤΑΜΑΝΙΔΟΥ: ανάγνωση \nΝΙΚΟΣ ΠΑΡΑΣΚΕΥΟΠΟΥΛΟΣ: ανάγνωση \nΔΩΡΑ ΠΕΤΡΙΔΗ: τραγούδι\, βυζαντινοί ύμνοι \nΕΛΕΝΑ ΠΑΠΑΔΗΜΗΤΡΙΟΥ: τσέλο\, τραγούδι \n  \nΔιοργάνωση:  Εταιρεία πολιτισμού ΗΔΥΦΩΝΟ με την υποστήριξη του Διεθνούς Ιδρύματος ΓΙΑΝΝΗ ΚΟΥΤΣΟΧΕΡΑ & ΛΕΝΑΣ ΣΤΡΕΦΗ-ΚΟΥΤΣΟΧΕΡΑ  
URL:https://oldsite.idifono.gr/event/%ce%bf-%ce%b3%ce%bf%ce%bb%ce%b3%ce%bf%ce%b8%ce%ac%cf%82-%cf%83%cf%84%ce%b7%ce%bd-%ce%bf%ce%b9%ce%ba%ce%af%ce%b1-%ce%ba%ce%b1%cf%84%ce%b1%ce%ba%ce%bf%cf%85%ce%b6%ce%b7%ce%bd%ce%bf%cf%8d/
LOCATION:Οικία Κατακουζηνού\, Λεωφόρος Αμαλίας 4\, Αθήνα\, Greece
CATEGORIES:Μουσικοθεατρική Παράσταση
ATTACH;FMTTYPE=image/jpeg:https://oldsite.idifono.gr/wp-content/uploads/2020/03/αφισα-για-Ιδρυμα-Κατακουζηνου-5.jpg
END:VEVENT
END:VCALENDAR