BEGIN:VCALENDAR
VERSION:2.0
PRODID:-//Idifono - ECPv5.3.2.1//NONSGML v1.0//EN
CALSCALE:GREGORIAN
METHOD:PUBLISH
X-WR-CALNAME:Idifono
X-ORIGINAL-URL:https://oldsite.idifono.gr
X-WR-CALDESC:Idifono - Εκδηλώσεις
BEGIN:VTIMEZONE
TZID:Europe/Athens
BEGIN:DAYLIGHT
TZOFFSETFROM:+0200
TZOFFSETTO:+0300
TZNAME:EEST
DTSTART:20200329T010000
END:DAYLIGHT
BEGIN:STANDARD
TZOFFSETFROM:+0300
TZOFFSETTO:+0200
TZNAME:EET
DTSTART:20201025T010000
END:STANDARD
END:VTIMEZONE
BEGIN:VEVENT
DTSTART;TZID=Europe/Athens:20200913T203000
DTEND;TZID=Europe/Athens:20200913T220000
DTSTAMP:20260419T172440
CREATED:20200904T090239Z
LAST-MODIFIED:20200904T090330Z
UID:6432-1600029000-1600034400@oldsite.idifono.gr
SUMMARY:“Κωστής Παλαμάς – Οι μούσες που αγάπησα” στο Αίγιο
DESCRIPTION:«ΚΩΣΤΗΣ ΠΑΛΑΜΑΣ-Οι μούσες που αγάπησα» \nΟ Γρηγόρης Βαλτινός στον ρόλο του μεγάλου ποιητή σε κείμενο της Μαρίας Παναγιωτακοπούλου -βασισμένο στο ομώνυμο βιβλίο της που θα κυκλοφορήσει σύντομα από τις εκδόσεις Ηδύφωνο- και σε μουσική του Σάκη Παπαδημητρίου. \n\nΣημαντικές στιγμές της ποιητικής διαδρομής καθώς και την άγνωστη προσωπική και ερωτική ζωή του μεγάλου ποιητή Κωστή Παλαμά θα μεταφέρει στη σκηνή ο Γρηγόρης Βαλτινός με τη θεατρική παράσταση «ΚΩΣΤΗΣ ΠΑΛΑΜΑΣ-Οι μούσες που αγάπησα»\, στην οποία πρωταγωνιστεί και υπογράφει τη σκηνοθεσία. \nΗ παράσταση αποκαλύπτει την ευαίσθητη πλευρά του ποιητή και τον έρωτά του με την αιώνια γυναίκα «μούσα»\, που αποτελεί και ένα από τα κυρίαρχα θέματα της ποίησής του.\nΟ Γρηγόρης Βαλτινός με τη δική του ευρηματική σκηνοθετική ματιά αναδεικνύει τη δύναμη και τις αδυναμίες του ποιητή στην πάλη του με τον χρόνο και την απώλεια. \nΜαζί του εφτά γυναίκες (ηθοποιοί και μουσικοί) ενσαρκώνουν τη γυναίκα «Μούσα»\, που\, χαρίζοντας την έμπνευση στον ποιητή\, του συμπαραστάθηκε στον διαρκή αγώνα του με τη φθορά\, τον μαρασμό και τον θάνατο. \nΗ παράσταση είναι υπό την αιγίδα του «Ιδρύματος Κωστή Παλαμά». \n  \nΣΥΝΤΕΛΕΣΤΕΣ: \nΣκηνοθεσία: Γρηγόρης Βαλτινός\nΚείμενο: Μαρία Παναγιωτακοπούλου\nΜουσική: Σάκης Παπαδημητρίου\nΕνορχήστρωση: Άσπα Παπαδημητρίου\nΧορογραφίες: Ευγενία Λιάκου\nΒοηθός σκηνοθέτη: Νίκος Παρασκευόπουλος\nSound design: Βρεζ Χατσατουριάν\nΦωτογραφίες: Αγγελική Κοκκοβέ\nΗχογραφήσεις: studio The Cave \nΠαίζουν:\nΚωστής Παλαμάς: Γρηγόρης Βαλτινός\nΜαρία Βάλβη: Ιωάννα Στεφανάτου\nΜούσα: Ευγενία Λιάκου \nΤα τραγούδια ερμηνεύει η Έλενα Λεώνη Παπαδημητρίου \nΜουσικοί:\nΠιάνο: Ιώ Κυριακίδου\nΒιολί: Αριέτα Σαϊτά\nΤσέλο: Στέλλα Τέμπρελη\nΦλάουτο: Βικτώρια Κυριακίδου\nΆρπα: Έλενα Λεώνη Παπαδημητρίου \nΗ φωτογράφιση έγινε στο «Ίδρυμα Κωστή Παλαμά»\, στο γραφείο του ποιητή\, στην Ασκληπιού 3\, εκεί που ήταν το σπίτι του για 50 ολόκληρα χρόνια. (Το σπίτι σήμερα έχει κατεδαφιστεί).
URL:https://oldsite.idifono.gr/event/%ce%ba%cf%89%cf%83%cf%84%ce%ae%cf%82-%cf%80%ce%b1%ce%bb%ce%b1%ce%bc%ce%ac%cf%82-%ce%bf%ce%b9-%ce%bc%ce%bf%cf%8d%cf%83%ce%b5%cf%82-%cf%80%ce%bf%cf%85-%ce%b1%ce%b3%ce%ac%cf%80%ce%b7/
LOCATION:Υπαίθριο Θέατρο “Γεώργιος Παππάς”\, 7-9 Πάροδος Νικολάου Πλαστήρα\, Αίγιο\, 25100\, Greece
CATEGORIES:Θέατρο
ATTACH;FMTTYPE=image/jpeg:https://oldsite.idifono.gr/wp-content/uploads/2020/08/ΑΦΙΣΑ-τελικη-scaled.jpg
END:VEVENT
END:VCALENDAR