BEGIN:VCALENDAR
VERSION:2.0
PRODID:-//Idifono - ECPv5.3.2.1//NONSGML v1.0//EN
CALSCALE:GREGORIAN
METHOD:PUBLISH
X-WR-CALNAME:Idifono
X-ORIGINAL-URL:https://oldsite.idifono.gr
X-WR-CALDESC:Idifono - Εκδηλώσεις
BEGIN:VTIMEZONE
TZID:Europe/Athens
BEGIN:DAYLIGHT
TZOFFSETFROM:+0200
TZOFFSETTO:+0300
TZNAME:EEST
DTSTART:20150329T010000
END:DAYLIGHT
BEGIN:STANDARD
TZOFFSETFROM:+0300
TZOFFSETTO:+0200
TZNAME:EET
DTSTART:20151025T010000
END:STANDARD
END:VTIMEZONE
BEGIN:VEVENT
DTSTART;TZID=Europe/Athens:20151115T200000
DTEND;TZID=Europe/Athens:20151115T230000
DTSTAMP:20260422T172453
CREATED:20190225T213424Z
LAST-MODIFIED:20210207T202232Z
UID:4022-1447617600-1447628400@oldsite.idifono.gr
SUMMARY:«ΚΑΤΙ ΕΛΛΑΔΕΣ» στο Συνεδριακό Κέντρο Παν/μιου Πατρών
DESCRIPTION:Το ΗΔΥΦΩΝΟ παρουσιάζει τη μουσική παράσταση «Κάτι Ελλάδες»\nμια αναφορά στο ελληνικό τραγούδι\,βασισμένη σε δύο άξονες:\nα)Ελληνικό Πολιτικό τραγούδι (1944-2014)\nβ)Σύγχρονο Ελληνικό τραγούδι (2000-σήμερα) \nΣυμμετέχουν:\nΜουσικό σχήμα «Ηχότροπον»\nΧορωδία Επτανησίων Πάτρας\nΧορωδία Μυρτουντίων\nΔιεύθυνση Χορωδιών: Λένα Σουρμελή \nΤραγουδούν: Θοδωρής Νικολάου\, Νανά Νικολάου \nΦιλική συμμετοχή: ΓΕΡΑΣΙΜΟΣ ΑΝΔΡΕΑΤΟΣ \nΤο «ΗΧΟΤΡΟΠΟΝ» αποτελείται από τους:\nΧρήστος Τσαντούλης (πιάνο\,συντονισμός μουσικών επί σκηνής\nΘοδωρής Δ. Νικολάου (κλασική κιθάρα-μπουζούκι)\nΝίκος Γιαννάκης (κιθάρα-μπουζούκι-τζουράς)\nΑλέξης Στενάκης (κλαρινέτο)\nΔημήτρης Στεφόπουλος (βιολί)\nΣτέλιος Τσάκας (ακκορντεόν)\nΧάρης Πεγιάζης (κοντραμπάσσο)\nΣτάθης Μαραγκός (παραδοσιακά κρουστά-κιθάρα)\nΓιώργος Μπαράκος (κλασικά κρουστά)\nΠροσαρμογή παρτιτούρας-ενορχήστρωση: Άσπα Παπαδημητρίου\nΉχος-φως: Masternoiz (Φώτης Πανταζής)\nΣχεδιασμός έντυπου υλικού:Θωμάς Παλυβός\nΚαλλιτεχνική επιμέλεια-επιλογή μουσικού υλικού : Θοδωρής Νικολάου\nΥπεύθυνη παραγωγής: Μαρία Παναγιωτακοπούλου
URL:https://oldsite.idifono.gr/event/%ce%ba%ce%b1%cf%84%ce%b9-%ce%b5%ce%bb%ce%bb%ce%b1%ce%b4%ce%b5%cf%83-%cf%83%cf%84%ce%bf-%cf%83%cf%85%ce%bd%ce%b5%ce%b4%cf%81%ce%b9%ce%b1%ce%ba%cf%8c-%ce%ba%ce%ad%ce%bd%cf%84%cf%81%ce%bf/
LOCATION:Συνεδριακό Κέντρο Παν/μίου Πατρών\, Πανεπιστημιούπολη Πατρών\, Πάτρα\, 26504\, Greece
CATEGORIES:Συναυλία
ATTACH;FMTTYPE=image/jpeg:https://oldsite.idifono.gr/wp-content/uploads/2019/02/κατι-ελλαδες-αφισα.jpg
END:VEVENT
END:VCALENDAR