BEGIN:VCALENDAR
VERSION:2.0
PRODID:-//Idifono - ECPv5.3.2.1//NONSGML v1.0//EN
CALSCALE:GREGORIAN
METHOD:PUBLISH
X-WR-CALNAME:Idifono
X-ORIGINAL-URL:https://oldsite.idifono.gr
X-WR-CALDESC:Idifono - Εκδηλώσεις
BEGIN:VTIMEZONE
TZID:Europe/Athens
BEGIN:DAYLIGHT
TZOFFSETFROM:+0200
TZOFFSETTO:+0300
TZNAME:EEST
DTSTART:20200329T010000
END:DAYLIGHT
BEGIN:STANDARD
TZOFFSETFROM:+0300
TZOFFSETTO:+0200
TZNAME:EET
DTSTART:20201025T010000
END:STANDARD
END:VTIMEZONE
BEGIN:VEVENT
DTSTART;TZID=Europe/Athens:20200514T193000
DTEND;TZID=Europe/Athens:20200514T200000
DTSTAMP:20260419T155336
CREATED:20200524T123139Z
LAST-MODIFIED:20210207T201633Z
UID:5907-1589484600-1589486400@oldsite.idifono.gr
SUMMARY:Ηδύφωνο Live Συναντήσεις "Κάποτε στο Αίγιο του μεσοπολέμου\, στην πόλη της σταφίδας""
DESCRIPTION:ΗΔΥΦΩΝΟ LIVE ΣΥΝΑΝΤΗΣΕΙΣ \n«Κάποτε στο Αίγιο του μεσοπολέμου\, στην πόλη της σταφίδας» Με αφορμή το βιβλίο της «Κάποτε στο Αίγιο» η συγγραφέας Μαρία Παναγιωτακοπούλου συναντιέται με την ιστορικό και διευθύντρια της βιβλιοθήκης της Βουλής κ.Έλλη Δρούλια για να μιλήσουν για το Αίγιο της σταφίδας την εποχή του μεσοπολέμου\, τον ρόλο που έπαιξε και παίζει η σταφίδα στη διαμόρφωση της κοινωνίας και της οικονομίας του τόπου αλλά και τη σημασία της μικροϊστορίας. Μνήμες\, διηγήσεις\, αρώματα άλλης εποχής αλλά και νέες προοπτικές με άξονα τη σταφίδα! \nΠαρακολουθήστε το εδώ
URL:https://oldsite.idifono.gr/event/%ce%b7%ce%b4%cf%8d%cf%86%cf%89%ce%bd%ce%bf-live-%cf%83%cf%85%ce%bd%ce%b1%ce%bd%cf%84%ce%ae%cf%83%ce%b5%ce%b9%cf%82-%ce%ba%ce%ac%cf%80%ce%bf%cf%84%ce%b5-%cf%83%cf%84%ce%bf-%ce%b1%ce%af%ce%b3%ce%b9/
LOCATION:FACEBOOK
CATEGORIES:Online Event
ATTACH;FMTTYPE=image/jpeg:https://oldsite.idifono.gr/wp-content/uploads/2020/05/συνατησεις1α.jpg
END:VEVENT
END:VCALENDAR