BEGIN:VCALENDAR
VERSION:2.0
PRODID:-//Idifono - ECPv5.3.2.1//NONSGML v1.0//EN
CALSCALE:GREGORIAN
METHOD:PUBLISH
X-WR-CALNAME:Idifono
X-ORIGINAL-URL:https://oldsite.idifono.gr
X-WR-CALDESC:Idifono - Εκδηλώσεις
BEGIN:VTIMEZONE
TZID:Europe/Athens
BEGIN:DAYLIGHT
TZOFFSETFROM:+0200
TZOFFSETTO:+0300
TZNAME:EEST
DTSTART:20200329T010000
END:DAYLIGHT
BEGIN:STANDARD
TZOFFSETFROM:+0300
TZOFFSETTO:+0200
TZNAME:EET
DTSTART:20201025T010000
END:STANDARD
END:VTIMEZONE
BEGIN:VEVENT
DTSTART;TZID=Europe/Athens:20201022T190000
DTEND;TZID=Europe/Athens:20201022T200000
DTSTAMP:20260419T155336
CREATED:20201019T172216Z
LAST-MODIFIED:20201019T172704Z
UID:6481-1603393200-1603396800@oldsite.idifono.gr
SUMMARY:ΗΔΥΦΩΝΟ LIVE ΠΑΡΟΥΣΙΑΣΗ ΒΙΒΛΙΟΥ "ΣΤΑ ΔΥΣΚΟΛΑ ΜΑΖΙ"
DESCRIPTION:ΗΔΥΦΩΝΟ LIVE ΠΑΡΟΥΣΙΑΣΗ ΒΙΒΛΙΟΥ \nΣΤΑ ΔΥΣΚΟΛΑ ΜΑΖΙ – ΙΔΕΕΣ ΓΙΑ ΔΙΑΦΟΡΟΠΟΙΗΜΕΝΗ ΔΙΔΑΣΚΑΛΙΑ ΣΤΟ ΝΗΠΙΑΓΩΓΕΙΟ!” Την Πέμπτη 22 Οκτωβρίου στις 7μ.μ. μη χάσετε τη διαδικτυακή παρουσίαση του βιβλίου της Αθηνάς Σκανδάμη και της Μαρίας Μαχτή με τίτλο «Στα δύσκολα μαζί –Ιδέες για διαφοροποιημένη διδασκαλία στο Νηπιαγωγείο»\, που κυκλοφόρησε πρόσφατα από τις εκδόσεις μας. Στη ζωντανή συνάντηση που θα γίνει στη σελίδα μας στο Facebook θα μιλήσουν οι συγγραφείς του βιβλίου\, η Αλεξάνδρα Ζαγούρα (νηπιαγωγός ειδικής αγωγής) και η Μαρία Παναγιωτακοπούλου (συγγραφέας–υπεύθυνη των Εκδόσεων Ηδύφωνο). Μείνετε συντονισμένοι!!! \nΠαρακολουθήστε εδώ!
URL:https://oldsite.idifono.gr/event/%ce%b7%ce%b4%cf%85%cf%86%cf%89%ce%bd%ce%bf-live-%cf%80%ce%b1%cf%81%ce%bf%cf%85%cf%83%ce%b9%ce%b1%cf%83%ce%b7-%ce%b2%ce%b9%ce%b2%ce%bb%ce%b9%ce%bf%cf%85-%cf%83%cf%84%ce%b1-%ce%b4%cf%85%cf%83%ce%ba/
LOCATION:FACEBOOK
CATEGORIES:Online Event
ATTACH;FMTTYPE=image/jpeg:https://oldsite.idifono.gr/wp-content/uploads/2020/10/παρουσίαση-βιβλίου-στα-δύσκολα-μαζί1-scaled.jpg
END:VEVENT
END:VCALENDAR