BEGIN:VCALENDAR
VERSION:2.0
PRODID:-//Idifono - ECPv5.3.2.1//NONSGML v1.0//EN
CALSCALE:GREGORIAN
METHOD:PUBLISH
X-WR-CALNAME:Idifono
X-ORIGINAL-URL:https://oldsite.idifono.gr
X-WR-CALDESC:Idifono - Εκδηλώσεις
BEGIN:VTIMEZONE
TZID:Europe/Athens
BEGIN:DAYLIGHT
TZOFFSETFROM:+0200
TZOFFSETTO:+0300
TZNAME:EEST
DTSTART:20190331T010000
END:DAYLIGHT
BEGIN:STANDARD
TZOFFSETFROM:+0300
TZOFFSETTO:+0200
TZNAME:EET
DTSTART:20191027T010000
END:STANDARD
END:VTIMEZONE
BEGIN:VEVENT
DTSTART;TZID=Europe/Athens:20190419T213000
DTEND;TZID=Europe/Athens:20190419T213000
DTSTAMP:20260419T230635
CREATED:20190415T235607Z
LAST-MODIFIED:20210207T201832Z
UID:4600-1555709400-1555709400@oldsite.idifono.gr
SUMMARY:Γαλλική Βραδιά - La chanteuse στο Le Pierrot Jazzy
DESCRIPTION:Τραγουδια που σε ταξιδευουν στο ομορφο Παρισι και οχι μονο!!!!! \nΠιάνο: Γιώργος Αναστασόπουλος \nΤραγούδι: Έλενα Παπαδημητρίου \n  \nΣας περιμένουμε στο ατμοσφαιρικό bistrot “Le Pierrot Jazzy”
URL:https://oldsite.idifono.gr/event/%ce%b3%ce%b1%ce%bb%ce%bb%ce%b9%ce%ba%ce%ae-%ce%b2%cf%81%ce%b1%ce%b4%ce%b9%ce%ac-la-chanteuse-%cf%83%cf%84%ce%bf-le-pierrot-jazzy/
LOCATION:Le Pierrot Jazzy\, Καραΐσκου 139 - 141\, Πειραιάς\, 18535\, Greece
CATEGORIES:Συναυλία
ATTACH;FMTTYPE=image/jpeg:https://oldsite.idifono.gr/wp-content/uploads/2019/04/57154224_2074706482636392_2383059236931239936_n.jpg
END:VEVENT
END:VCALENDAR