BEGIN:VCALENDAR
VERSION:2.0
PRODID:-//Idifono - ECPv5.3.2.1//NONSGML v1.0//EN
CALSCALE:GREGORIAN
METHOD:PUBLISH
X-WR-CALNAME:Idifono
X-ORIGINAL-URL:https://oldsite.idifono.gr
X-WR-CALDESC:Idifono - Εκδηλώσεις
BEGIN:VTIMEZONE
TZID:Europe/Athens
BEGIN:DAYLIGHT
TZOFFSETFROM:+0200
TZOFFSETTO:+0300
TZNAME:EEST
DTSTART:20180325T010000
END:DAYLIGHT
BEGIN:STANDARD
TZOFFSETFROM:+0300
TZOFFSETTO:+0200
TZNAME:EET
DTSTART:20181028T010000
END:STANDARD
END:VTIMEZONE
BEGIN:VEVENT
DTSTART;TZID=Europe/Athens:20180826T210000
DTEND;TZID=Europe/Athens:20180826T230000
DTSTAMP:20260422T083232
CREATED:20190411T110428Z
LAST-MODIFIED:20210207T202145Z
UID:4547-1535317200-1535324400@oldsite.idifono.gr
SUMMARY:"ΑριστοφΟινιάδα" στο Αίγιο
DESCRIPTION:«ΑριστοφΟινιάδα» \nΜε μια μεγάλη μουσικοθεατρική παραγωγή θα ολοκληρωθούν τα\nφετινά Οινοξένεια την Κυριακή στις 26 Αυγούστου στο θέατρο «Γιώργος\nΠαππάς»\, στις 9μ.μ. Πρόκειται για την παράσταση με τον χαρακτηριστικό\nτίτλο ΑριστοφΟινιάδα όπου ο λόγος του Αριστοφάνη για το κρασί μέσα\nαπό τις κωμωδίες Αχαρνείς\, Ιππείς\, Λυσιστράτη και Εκκλησιάζουσες\nεμπλέκεται με αρχαία λυρική ποίηση αλλά και παραδοσιακά και\nσύγχρονα έντεχνα ελληνικά τραγούδια. Περισσότεροι από 40\nσυντελεστές από τους σημαντικότερους πολιτιστικούς φορείς της πόλης\nμας\, συμμετέχουν στην παράσταση \, όπου το κείμενο έχει γράψει η\nΜαρία Παναγιωτακοπούλου και τη μουσική σύνθεση και επιμέλεια έχει\nκάνει ο Σάκης Παπαδημητρίου.\nΗ Μαρία Παναγιωτακοπούλου\, που υπογράφει και τη σκηνοθεσία της\nπαράστασης μας είπε: Ένας αριστοφανικός ήρωας\, εκφραστής και\nυμνητής της ζωής\, εμφανίζεται μετά από χιλιάδες χρόνια και διατρέχοντας\nτις κωμωδίες του Αριστοφάνη\, που κάνουν αναφορά στο κρασί\, έρχεται\nνα μας θυμίσει τα αγαθά της ζωής\, που πολλές φορές λησμονάμε\, το\nγέλιο\, το τραγούδι\, το γλέντι και τη χαρά \,που αποτελούν για τον άνθρωπο\nόπλα ζωής. Παράλληλα όμως έρχεται να μας ταρακουνήσει σαρκάζοντας\nκαι γελοιοποιώντας θέματα πολιτικά και κοινωνικά και καθώς στηλιτεύει\nτα κακώς κείμενα της εποχής του\, μας αποδεικνύει πόσο επίκαιρος και\nουσιαστικός είναι ο λόγος του Αριστοφάνη. \nΣτην παράσταση συμμετέχουν μέλη από:\nΜουσικό Εργαστήρι Αιγίου-Ηδύφωνο\nΘεατρική Έκφραση Αιγίου\nΘεατρική Ομάδα Αποφοίτων\nΘεατρική Ομάδα «Μονόλογοι»\nΧορευτικός Όμιλος Αιγίου\nΓυναικεία Χορωδία παραδοσιακής μουσικής\nΣχολή Χορού Salon de ballet \nΣτο τραγούδι συμμετέχει η εξαιρετική ερμηνεύτρια Λιζέτα Καλημέρη την\nοποία συνοδεύουν οι δεξιοτέχνες μουσικοί που αποτελούν το μουσικό\nσύνολο ΗΔΥΦΩΝΟ.
URL:https://oldsite.idifono.gr/event/%ce%b1%cf%81%ce%b9%cf%83%cf%84%ce%bf%cf%86%ce%bf%ce%b9%ce%bd%ce%b9%ce%ac%ce%b4%ce%b1-%cf%83%cf%84%ce%bf-%ce%b1%ce%af%ce%b3%ce%b9%ce%bf/
LOCATION:θέατρο Γιώργος Παππάς\, Νικολάου Πλαστήρα 7-9\, Αίγιο\, 25100
CATEGORIES:Μουσικοθεατρική Παράσταση
ATTACH;FMTTYPE=image/jpeg:https://oldsite.idifono.gr/wp-content/uploads/2019/03/39389889_10155663849971696_6611021830478102528_n.jpg
END:VEVENT
END:VCALENDAR