BEGIN:VCALENDAR
VERSION:2.0
PRODID:-//Idifono - ECPv5.3.2.1//NONSGML v1.0//EN
CALSCALE:GREGORIAN
METHOD:PUBLISH
X-WR-CALNAME:Idifono
X-ORIGINAL-URL:https://oldsite.idifono.gr
X-WR-CALDESC:Idifono - Εκδηλώσεις
BEGIN:VTIMEZONE
TZID:Europe/Athens
BEGIN:DAYLIGHT
TZOFFSETFROM:+0200
TZOFFSETTO:+0300
TZNAME:EEST
DTSTART:20160327T010000
END:DAYLIGHT
BEGIN:STANDARD
TZOFFSETFROM:+0300
TZOFFSETTO:+0200
TZNAME:EET
DTSTART:20161030T010000
END:STANDARD
END:VTIMEZONE
BEGIN:VEVENT
DTSTART;TZID=Europe/Athens:20160820T210000
DTEND;TZID=Europe/Athens:20160820T230000
DTSTAMP:20260422T161541
CREATED:20200329T181359Z
LAST-MODIFIED:20200524T114836Z
UID:5742-1471726800-1471734000@oldsite.idifono.gr
SUMMARY:«Από τη Σαπφώ στην Κική Δημουλά» στο Αίγιο
DESCRIPTION: «Από τη Σαπφώ στην Κική Δημουλά» \nμια ανθολογία  ελληνικής ποίησης και μουσικής. \n  \nΗ κορυφαία ερμηνεύτρια  Μαρία Φαραντούρη και η σπουδαία ηθοποιός Εύα Κοταμανίδου συναντούν τη μελοποιημένη ποίηση της Κικής Δημουλά  από τον συνθέτη Σάκη Παπαδημητρίου. \n  \nΜια υποβλητική και συμβολική παράσταση όπου η Μαρία Φαραντούρη θα ερμηνεύσει αποσπάσματα  από τη μελοποιημένη συλλογή της Κικής Δημουλά «Το τελευταίο σώμα μου» από τον συνθέτη  Σάκη Παπαδημητρίου καθώς και μελοποιημένα ποιήματα μεγάλων Ελλήνων ποιητών (Ο. Ελύτη\, Γ. Σεφέρη\, Γ.Ρίτσου\, Ν. Γκάτσου\, κ.α) από τους μεγαλύτερους Έλληνες συνθέτες (Θεοδωράκη\, Χατζιδάκι\, κ.α ). Η ηθοποιός Εύα Κοταμανιδου θα διαβάσει ποιήματα της μεγάλης ελληνίδας ποιήτριας \,η οποία θα παρευρεθεί στην  εκδήλωση. \n  \nΟρχήστρα: Μουσικό Σύνολο «Ηδύφωνο» \nΕνορχηστρώσεις-παρτιτούρες: Άσπα Παπαδημητρίου \nΣτο πιάνο ο Αχιλλέας Γουάστωρ \n  \nΕίσοδος: 7 Ευρώ \nΜαθητές-φοιτητές: Δωρεάν
URL:https://oldsite.idifono.gr/event/%ce%b1%cf%80%cf%8c-%cf%84%ce%b7-%cf%83%ce%b1%cf%80%cf%86%cf%8e-%cf%83%cf%84%ce%b7%ce%bd-%ce%ba%ce%b9%ce%ba%ce%ae-%ce%b4%ce%b7%ce%bc%ce%bf%cf%85%ce%bb%ce%ac-%cf%83%cf%84%ce%bf-%ce%b1%ce%af/
LOCATION:θέατρο Γιώργος Παππάς\, Νικολάου Πλαστήρα 7-9\, Αίγιο\, 25100
CATEGORIES:Συναυλία
ATTACH;FMTTYPE=image/jpeg:https://oldsite.idifono.gr/wp-content/uploads/2020/03/farantouri-dimoula_.jpg
END:VEVENT
END:VCALENDAR